BEGIN:VCALENDAR
PRODID:http://www.kufer.de/kuferweb / DE
VERSION:2.0
METHOD:PUBLISH
CALSCALE:GREGORIAN
X-WR-TIMEZONE:Europe/Berlin
BEGIN:VTIMEZONE
TZID:Europe/Berlin
X-LIC-LOCATION:Europe/Berlin
BEGIN:DAYLIGHT
TZOFFSETFROM:+0100
TZOFFSETTO:+0200
TZNAME:CEST
DTSTART;TZID=Europe/Berlin:19700329T020000
RRULE:FREQ=YEARLY;INTERVAL=1;BYDAY=-1SU;BYMONTH=3
END:DAYLIGHT
BEGIN:STANDARD
TZOFFSETFROM:+0200
TZOFFSETTO:+0100
TZNAME:CET
DTSTART;TZID=Europe/Berlin:19701025T030000
RRULE:FREQ=YEARLY;INTERVAL=1;BYDAY=-1SU;BYMONTH=10
END:STANDARD
END:VTIMEZONE
BEGIN:VEVENT
DTSTAMP:20260424T143706
DTSTART;TZID=Europe/Berlin:20260210T170000
DTEND;TZID=Europe/Berlin:20260210T180000
UID:26121300L-20260210T170000@LEINE-VHS LAATZEN GGMBH
SUMMARY:Gitarre - A1 Für Anfänger*innen (26121300L) 
LOCATION:Laatzen, Leine-VHS, Senefelderstr. 17/19, Kreativraum 2.21, Senefelderstraße 17/19, 30880 Laatzen
END:VEVENT
BEGIN:VEVENT
DTSTAMP:20260424T143706
DTSTART;TZID=Europe/Berlin:20260217T170000
DTEND;TZID=Europe/Berlin:20260217T180000
UID:26121300L-20260217T170000@LEINE-VHS LAATZEN GGMBH
SUMMARY:Gitarre - A1 Für Anfänger*innen (26121300L) 
LOCATION:Laatzen, Leine-VHS, Senefelderstr. 17/19, Kreativraum 2.21, Senefelderstraße 17/19, 30880 Laatzen
END:VEVENT
BEGIN:VEVENT
DTSTAMP:20260424T143706
DTSTART;TZID=Europe/Berlin:20260224T170000
DTEND;TZID=Europe/Berlin:20260224T180000
UID:26121300L-20260224T170000@LEINE-VHS LAATZEN GGMBH
SUMMARY:Gitarre - A1 Für Anfänger*innen (26121300L) 
LOCATION:Laatzen, Leine-VHS, Senefelderstr. 17/19, Kreativraum 2.21, Senefelderstraße 17/19, 30880 Laatzen
END:VEVENT
BEGIN:VEVENT
DTSTAMP:20260424T143706
DTSTART;TZID=Europe/Berlin:20260303T170000
DTEND;TZID=Europe/Berlin:20260303T180000
UID:26121300L-20260303T170000@LEINE-VHS LAATZEN GGMBH
SUMMARY:Gitarre - A1 Für Anfänger*innen (26121300L) 
LOCATION:Laatzen, Leine-VHS, Senefelderstr. 17/19, Kreativraum 2.21, Senefelderstraße 17/19, 30880 Laatzen
END:VEVENT
BEGIN:VEVENT
DTSTAMP:20260424T143706
DTSTART;TZID=Europe/Berlin:20260310T170000
DTEND;TZID=Europe/Berlin:20260310T180000
UID:26121300L-20260310T170000@LEINE-VHS LAATZEN GGMBH
SUMMARY:Gitarre - A1 Für Anfänger*innen (26121300L) 
LOCATION:Laatzen, Leine-VHS, Senefelderstr. 17/19, Kreativraum 2.21, Senefelderstraße 17/19, 30880 Laatzen
END:VEVENT
BEGIN:VEVENT
DTSTAMP:20260424T143706
DTSTART;TZID=Europe/Berlin:20260317T170000
DTEND;TZID=Europe/Berlin:20260317T180000
UID:26121300L-20260317T170000@LEINE-VHS LAATZEN GGMBH
SUMMARY:Gitarre - A1 Für Anfänger*innen (26121300L) 
LOCATION:Laatzen, Leine-VHS, Senefelderstr. 17/19, Kreativraum 2.21, Senefelderstraße 17/19, 30880 Laatzen
END:VEVENT
BEGIN:VEVENT
DTSTAMP:20260424T143706
DTSTART;TZID=Europe/Berlin:20260414T170000
DTEND;TZID=Europe/Berlin:20260414T180000
UID:26121300L-20260414T170000@LEINE-VHS LAATZEN GGMBH
SUMMARY:Gitarre - A1 Für Anfänger*innen (26121300L) 
LOCATION:Laatzen, Leine-VHS, Senefelderstr. 17/19, Kreativraum 2.21, Senefelderstraße 17/19, 30880 Laatzen
END:VEVENT
BEGIN:VEVENT
DTSTAMP:20260424T143706
DTSTART;TZID=Europe/Berlin:20260421T170000
DTEND;TZID=Europe/Berlin:20260421T180000
UID:26121300L-20260421T170000@LEINE-VHS LAATZEN GGMBH
SUMMARY:Gitarre - A1 Für Anfänger*innen (26121300L) 
LOCATION:Laatzen, Leine-VHS, Senefelderstr. 17/19, Kreativraum 2.21, Senefelderstraße 17/19, 30880 Laatzen
END:VEVENT
BEGIN:VEVENT
DTSTAMP:20260424T143706
DTSTART;TZID=Europe/Berlin:20260505T170000
DTEND;TZID=Europe/Berlin:20260505T180000
UID:26121300L-20260505T170000@LEINE-VHS LAATZEN GGMBH
SUMMARY:Gitarre - A1 Für Anfänger*innen (26121300L) 
LOCATION:Laatzen, Leine-VHS, Senefelderstr. 17/19, Kreativraum 2.21, Senefelderstraße 17/19, 30880 Laatzen
END:VEVENT
BEGIN:VEVENT
DTSTAMP:20260424T143706
DTSTART;TZID=Europe/Berlin:20260526T170000
DTEND;TZID=Europe/Berlin:20260526T180000
UID:26121300L-20260526T170000@LEINE-VHS LAATZEN GGMBH
DESCRIPTION:Ersatz für Ausfall am 12.05.2026
SUMMARY:Gitarre - A1 Für Anfänger*innen (26121300L) 
LOCATION:Laatzen, Leine-VHS, Senefelderstr. 17/19, Kreativraum 2.21, Senefelderstraße 17/19, 30880 Laatzen
END:VEVENT
BEGIN:VEVENT
DTSTAMP:20260424T143706
DTSTART;TZID=Europe/Berlin:20260602T170000
DTEND;TZID=Europe/Berlin:20260602T180000
UID:26121300L-20260602T170000@LEINE-VHS LAATZEN GGMBH
DESCRIPTION:Ersatz für Ausfall am 19.05.2026
SUMMARY:Gitarre - A1 Für Anfänger*innen (26121300L) 
LOCATION:Laatzen, Leine-VHS, Senefelderstr. 17/19, Kreativraum 2.21, Senefelderstraße 17/19, 30880 Laatzen
END:VEVENT
BEGIN:VEVENT
DTSTAMP:20260424T143706
DTSTART;TZID=Europe/Berlin:20260609T170000
DTEND;TZID=Europe/Berlin:20260609T180000
UID:26121300L-20260609T170000@LEINE-VHS LAATZEN GGMBH
DESCRIPTION:Ersatz für Ausfall am 28.04.2026
SUMMARY:Gitarre - A1 Für Anfänger*innen (26121300L) 
LOCATION:Laatzen, Leine-VHS, Senefelderstr. 17/19, Kreativraum 2.21, Senefelderstraße 17/19, 30880 Laatzen
END:VEVENT
END:VCALENDAR