BEGIN:VCALENDAR
PRODID:http://www.kufer.de/kuferweb / DE
VERSION:2.0
METHOD:PUBLISH
CALSCALE:GREGORIAN
X-WR-TIMEZONE:Europe/Berlin
BEGIN:VTIMEZONE
TZID:Europe/Berlin
X-LIC-LOCATION:Europe/Berlin
BEGIN:DAYLIGHT
TZOFFSETFROM:+0100
TZOFFSETTO:+0200
TZNAME:CEST
DTSTART;TZID=Europe/Berlin:19700329T020000
RRULE:FREQ=YEARLY;INTERVAL=1;BYDAY=-1SU;BYMONTH=3
END:DAYLIGHT
BEGIN:STANDARD
TZOFFSETFROM:+0200
TZOFFSETTO:+0100
TZNAME:CET
DTSTART;TZID=Europe/Berlin:19701025T030000
RRULE:FREQ=YEARLY;INTERVAL=1;BYDAY=-1SU;BYMONTH=10
END:STANDARD
END:VTIMEZONE
BEGIN:VEVENT
DTSTAMP:20260424T180811
DTSTART;TZID=Europe/Berlin:20260408T163000
DTEND;TZID=Europe/Berlin:20260408T171500
UID:26121302H-20260408T163000@LEINE-VHS LAATZEN GGMBH
SUMMARY:Fortgeschrittenenkurs Gitarre "Das Abenteuer geht weiter" (26121302H) 
LOCATION:Hemmingen-Westerfeld, C.-F.-Gauß-Schule, Raum B11, Hohe Bünte 4, 30966 Hemmingen
END:VEVENT
BEGIN:VEVENT
DTSTAMP:20260424T180811
DTSTART;TZID=Europe/Berlin:20260415T163000
DTEND;TZID=Europe/Berlin:20260415T171500
UID:26121302H-20260415T163000@LEINE-VHS LAATZEN GGMBH
SUMMARY:Fortgeschrittenenkurs Gitarre "Das Abenteuer geht weiter" (26121302H) 
LOCATION:Hemmingen-Westerfeld, C.-F.-Gauß-Schule, Raum B11, Hohe Bünte 4, 30966 Hemmingen
END:VEVENT
BEGIN:VEVENT
DTSTAMP:20260424T180811
DTSTART;TZID=Europe/Berlin:20260422T163000
DTEND;TZID=Europe/Berlin:20260422T171500
UID:26121302H-20260422T163000@LEINE-VHS LAATZEN GGMBH
SUMMARY:Fortgeschrittenenkurs Gitarre "Das Abenteuer geht weiter" (26121302H) 
LOCATION:Hemmingen-Westerfeld, C.-F.-Gauß-Schule, Raum B11, Hohe Bünte 4, 30966 Hemmingen
END:VEVENT
BEGIN:VEVENT
DTSTAMP:20260424T180811
DTSTART;TZID=Europe/Berlin:20260429T163000
DTEND;TZID=Europe/Berlin:20260429T171500
UID:26121302H-20260429T163000@LEINE-VHS LAATZEN GGMBH
SUMMARY:Fortgeschrittenenkurs Gitarre "Das Abenteuer geht weiter" (26121302H) 
LOCATION:Hemmingen-Westerfeld, C.-F.-Gauß-Schule, Raum B11, Hohe Bünte 4, 30966 Hemmingen
END:VEVENT
BEGIN:VEVENT
DTSTAMP:20260424T180811
DTSTART;TZID=Europe/Berlin:20260506T163000
DTEND;TZID=Europe/Berlin:20260506T171500
UID:26121302H-20260506T163000@LEINE-VHS LAATZEN GGMBH
SUMMARY:Fortgeschrittenenkurs Gitarre "Das Abenteuer geht weiter" (26121302H) 
LOCATION:Hemmingen-Westerfeld, C.-F.-Gauß-Schule, Raum B11, Hohe Bünte 4, 30966 Hemmingen
END:VEVENT
BEGIN:VEVENT
DTSTAMP:20260424T180811
DTSTART;TZID=Europe/Berlin:20260513T163000
DTEND;TZID=Europe/Berlin:20260513T171500
UID:26121302H-20260513T163000@LEINE-VHS LAATZEN GGMBH
SUMMARY:Fortgeschrittenenkurs Gitarre "Das Abenteuer geht weiter" (26121302H) 
LOCATION:Hemmingen-Westerfeld, C.-F.-Gauß-Schule, Raum B11, Hohe Bünte 4, 30966 Hemmingen
END:VEVENT
BEGIN:VEVENT
DTSTAMP:20260424T180811
DTSTART;TZID=Europe/Berlin:20260520T163000
DTEND;TZID=Europe/Berlin:20260520T171500
UID:26121302H-20260520T163000@LEINE-VHS LAATZEN GGMBH
SUMMARY:Fortgeschrittenenkurs Gitarre "Das Abenteuer geht weiter" (26121302H) 
LOCATION:Hemmingen-Westerfeld, C.-F.-Gauß-Schule, Raum B11, Hohe Bünte 4, 30966 Hemmingen
END:VEVENT
BEGIN:VEVENT
DTSTAMP:20260424T180811
DTSTART;TZID=Europe/Berlin:20260527T163000
DTEND;TZID=Europe/Berlin:20260527T171500
UID:26121302H-20260527T163000@LEINE-VHS LAATZEN GGMBH
SUMMARY:Fortgeschrittenenkurs Gitarre "Das Abenteuer geht weiter" (26121302H) 
LOCATION:Hemmingen-Westerfeld, C.-F.-Gauß-Schule, Raum B11, Hohe Bünte 4, 30966 Hemmingen
END:VEVENT
BEGIN:VEVENT
DTSTAMP:20260424T180811
DTSTART;TZID=Europe/Berlin:20260603T163000
DTEND;TZID=Europe/Berlin:20260603T171500
UID:26121302H-20260603T163000@LEINE-VHS LAATZEN GGMBH
SUMMARY:Fortgeschrittenenkurs Gitarre "Das Abenteuer geht weiter" (26121302H) 
LOCATION:Hemmingen-Westerfeld, C.-F.-Gauß-Schule, Raum B11, Hohe Bünte 4, 30966 Hemmingen
END:VEVENT
BEGIN:VEVENT
DTSTAMP:20260424T180811
DTSTART;TZID=Europe/Berlin:20260610T163000
DTEND;TZID=Europe/Berlin:20260610T171500
UID:26121302H-20260610T163000@LEINE-VHS LAATZEN GGMBH
SUMMARY:Fortgeschrittenenkurs Gitarre "Das Abenteuer geht weiter" (26121302H) 
LOCATION:Hemmingen-Westerfeld, C.-F.-Gauß-Schule, Raum B11, Hohe Bünte 4, 30966 Hemmingen
END:VEVENT
BEGIN:VEVENT
DTSTAMP:20260424T180811
DTSTART;TZID=Europe/Berlin:20260617T163000
DTEND;TZID=Europe/Berlin:20260617T171500
UID:26121302H-20260617T163000@LEINE-VHS LAATZEN GGMBH
SUMMARY:Fortgeschrittenenkurs Gitarre "Das Abenteuer geht weiter" (26121302H) 
LOCATION:Hemmingen-Westerfeld, C.-F.-Gauß-Schule, Raum B11, Hohe Bünte 4, 30966 Hemmingen
END:VEVENT
BEGIN:VEVENT
DTSTAMP:20260424T180811
DTSTART;TZID=Europe/Berlin:20260624T163000
DTEND;TZID=Europe/Berlin:20260624T171500
UID:26121302H-20260624T163000@LEINE-VHS LAATZEN GGMBH
SUMMARY:Fortgeschrittenenkurs Gitarre "Das Abenteuer geht weiter" (26121302H) 
LOCATION:Hemmingen-Westerfeld, C.-F.-Gauß-Schule, Raum B11, Hohe Bünte 4, 30966 Hemmingen
END:VEVENT
END:VCALENDAR