BEGIN:VCALENDAR
PRODID:http://www.kufer.de/kuferweb / DE
VERSION:2.0
METHOD:PUBLISH
CALSCALE:GREGORIAN
X-WR-TIMEZONE:Europe/Berlin
BEGIN:VTIMEZONE
TZID:Europe/Berlin
X-LIC-LOCATION:Europe/Berlin
BEGIN:DAYLIGHT
TZOFFSETFROM:+0100
TZOFFSETTO:+0200
TZNAME:CEST
DTSTART;TZID=Europe/Berlin:19700329T020000
RRULE:FREQ=YEARLY;INTERVAL=1;BYDAY=-1SU;BYMONTH=3
END:DAYLIGHT
BEGIN:STANDARD
TZOFFSETFROM:+0200
TZOFFSETTO:+0100
TZNAME:CET
DTSTART;TZID=Europe/Berlin:19701025T030000
RRULE:FREQ=YEARLY;INTERVAL=1;BYDAY=-1SU;BYMONTH=10
END:STANDARD
END:VTIMEZONE
BEGIN:VEVENT
DTSTAMP:20260424T162627
DTSTART;TZID=Europe/Berlin:20260611T090000
DTEND;TZID=Europe/Berlin:20260611T101500
UID:26130113H-20260611T090000@LEINE-VHS LAATZEN GGMBH
SUMMARY:Zeit für Sie! Yoga für mehr Wohlbefinden (26130113H) 
LOCATION:Hemmingen-Westerfeld, VHS-Geschäftsstelle, Gutenbergstraße 2, B11, Gutenbergstraße 2, 30966 Hemmingen
END:VEVENT
BEGIN:VEVENT
DTSTAMP:20260424T162627
DTSTART;TZID=Europe/Berlin:20260618T090000
DTEND;TZID=Europe/Berlin:20260618T101500
UID:26130113H-20260618T090000@LEINE-VHS LAATZEN GGMBH
SUMMARY:Zeit für Sie! Yoga für mehr Wohlbefinden (26130113H) 
LOCATION:Hemmingen-Westerfeld, VHS-Geschäftsstelle, Gutenbergstraße 2, B11, Gutenbergstraße 2, 30966 Hemmingen
END:VEVENT
BEGIN:VEVENT
DTSTAMP:20260424T162627
DTSTART;TZID=Europe/Berlin:20260625T090000
DTEND;TZID=Europe/Berlin:20260625T101500
UID:26130113H-20260625T090000@LEINE-VHS LAATZEN GGMBH
SUMMARY:Zeit für Sie! Yoga für mehr Wohlbefinden (26130113H) 
LOCATION:Hemmingen-Westerfeld, VHS-Geschäftsstelle, Gutenbergstraße 2, B11, Gutenbergstraße 2, 30966 Hemmingen
END:VEVENT
BEGIN:VEVENT
DTSTAMP:20260424T162627
DTSTART;TZID=Europe/Berlin:20260702T090000
DTEND;TZID=Europe/Berlin:20260702T101500
UID:26130113H-20260702T090000@LEINE-VHS LAATZEN GGMBH
SUMMARY:Zeit für Sie! Yoga für mehr Wohlbefinden (26130113H) 
LOCATION:Hemmingen-Westerfeld, VHS-Geschäftsstelle, Gutenbergstraße 2, B11, Gutenbergstraße 2, 30966 Hemmingen
END:VEVENT
BEGIN:VEVENT
DTSTAMP:20260424T162627
DTSTART;TZID=Europe/Berlin:20260709T090000
DTEND;TZID=Europe/Berlin:20260709T101500
UID:26130113H-20260709T090000@LEINE-VHS LAATZEN GGMBH
SUMMARY:Zeit für Sie! Yoga für mehr Wohlbefinden (26130113H) 
LOCATION:Hemmingen-Westerfeld, VHS-Geschäftsstelle, Gutenbergstraße 2, B11, Gutenbergstraße 2, 30966 Hemmingen
END:VEVENT
BEGIN:VEVENT
DTSTAMP:20260424T162627
DTSTART;TZID=Europe/Berlin:20260813T090000
DTEND;TZID=Europe/Berlin:20260813T101500
UID:26130113H-20260813T090000@LEINE-VHS LAATZEN GGMBH
SUMMARY:Zeit für Sie! Yoga für mehr Wohlbefinden (26130113H) 
LOCATION:Hemmingen-Westerfeld, VHS-Geschäftsstelle, Gutenbergstraße 2, B11, Gutenbergstraße 2, 30966 Hemmingen
END:VEVENT
BEGIN:VEVENT
DTSTAMP:20260424T162627
DTSTART;TZID=Europe/Berlin:20260820T090000
DTEND;TZID=Europe/Berlin:20260820T101500
UID:26130113H-20260820T090000@LEINE-VHS LAATZEN GGMBH
SUMMARY:Zeit für Sie! Yoga für mehr Wohlbefinden (26130113H) 
LOCATION:Hemmingen-Westerfeld, VHS-Geschäftsstelle, Gutenbergstraße 2, B11, Gutenbergstraße 2, 30966 Hemmingen
END:VEVENT
BEGIN:VEVENT
DTSTAMP:20260424T162627
DTSTART;TZID=Europe/Berlin:20260827T090000
DTEND;TZID=Europe/Berlin:20260827T101500
UID:26130113H-20260827T090000@LEINE-VHS LAATZEN GGMBH
SUMMARY:Zeit für Sie! Yoga für mehr Wohlbefinden (26130113H) 
LOCATION:Hemmingen-Westerfeld, VHS-Geschäftsstelle, Gutenbergstraße 2, B11, Gutenbergstraße 2, 30966 Hemmingen
END:VEVENT
END:VCALENDAR