BEGIN:VCALENDAR
PRODID:http://www.kufer.de/kuferweb / DE
VERSION:2.0
METHOD:PUBLISH
CALSCALE:GREGORIAN
X-WR-TIMEZONE:Europe/Berlin
BEGIN:VTIMEZONE
TZID:Europe/Berlin
X-LIC-LOCATION:Europe/Berlin
BEGIN:DAYLIGHT
TZOFFSETFROM:+0100
TZOFFSETTO:+0200
TZNAME:CEST
DTSTART;TZID=Europe/Berlin:19700329T020000
RRULE:FREQ=YEARLY;INTERVAL=1;BYDAY=-1SU;BYMONTH=3
END:DAYLIGHT
BEGIN:STANDARD
TZOFFSETFROM:+0200
TZOFFSETTO:+0100
TZNAME:CET
DTSTART;TZID=Europe/Berlin:19701025T030000
RRULE:FREQ=YEARLY;INTERVAL=1;BYDAY=-1SU;BYMONTH=10
END:STANDARD
END:VTIMEZONE
BEGIN:VEVENT
DTSTAMP:20260424T180842
DTSTART;TZID=Europe/Berlin:20260216T174500
DTEND;TZID=Europe/Berlin:20260216T184500
UID:26130124L-20260216T174500@LEINE-VHS LAATZEN GGMBH
SUMMARY:Qigong mit einfachen Tai-Chi Elementen (26130124L) 
LOCATION:Laatzen, Leine-VHS, Senefelderstr. 17/19, Bewegungsraum 2.13, Senefelderstraße 17/19, 30880 Laatzen
END:VEVENT
BEGIN:VEVENT
DTSTAMP:20260424T180842
DTSTART;TZID=Europe/Berlin:20260223T174500
DTEND;TZID=Europe/Berlin:20260223T184500
UID:26130124L-20260223T174500@LEINE-VHS LAATZEN GGMBH
SUMMARY:Qigong mit einfachen Tai-Chi Elementen (26130124L) 
LOCATION:Laatzen, Leine-VHS, Senefelderstr. 17/19, Bewegungsraum 2.13, Senefelderstraße 17/19, 30880 Laatzen
END:VEVENT
BEGIN:VEVENT
DTSTAMP:20260424T180842
DTSTART;TZID=Europe/Berlin:20260302T174500
DTEND;TZID=Europe/Berlin:20260302T184500
UID:26130124L-20260302T174500@LEINE-VHS LAATZEN GGMBH
SUMMARY:Qigong mit einfachen Tai-Chi Elementen (26130124L) 
LOCATION:Laatzen, Leine-VHS, Senefelderstr. 17/19, Bewegungsraum 2.13, Senefelderstraße 17/19, 30880 Laatzen
END:VEVENT
BEGIN:VEVENT
DTSTAMP:20260424T180842
DTSTART;TZID=Europe/Berlin:20260309T174500
DTEND;TZID=Europe/Berlin:20260309T184500
UID:26130124L-20260309T174500@LEINE-VHS LAATZEN GGMBH
SUMMARY:Qigong mit einfachen Tai-Chi Elementen (26130124L) 
LOCATION:Laatzen, Leine-VHS, Senefelderstr. 17/19, Bewegungsraum 2.13, Senefelderstraße 17/19, 30880 Laatzen
END:VEVENT
BEGIN:VEVENT
DTSTAMP:20260424T180842
DTSTART;TZID=Europe/Berlin:20260316T174500
DTEND;TZID=Europe/Berlin:20260316T184500
UID:26130124L-20260316T174500@LEINE-VHS LAATZEN GGMBH
SUMMARY:Qigong mit einfachen Tai-Chi Elementen (26130124L) 
LOCATION:Laatzen, Leine-VHS, Senefelderstr. 17/19, Bewegungsraum 2.13, Senefelderstraße 17/19, 30880 Laatzen
END:VEVENT
BEGIN:VEVENT
DTSTAMP:20260424T180842
DTSTART;TZID=Europe/Berlin:20260413T174500
DTEND;TZID=Europe/Berlin:20260413T184500
UID:26130124L-20260413T174500@LEINE-VHS LAATZEN GGMBH
SUMMARY:Qigong mit einfachen Tai-Chi Elementen (26130124L) 
LOCATION:Laatzen, Leine-VHS, Senefelderstr. 17/19, Bewegungsraum 2.13, Senefelderstraße 17/19, 30880 Laatzen
END:VEVENT
BEGIN:VEVENT
DTSTAMP:20260424T180842
DTSTART;TZID=Europe/Berlin:20260420T174500
DTEND;TZID=Europe/Berlin:20260420T184500
UID:26130124L-20260420T174500@LEINE-VHS LAATZEN GGMBH
SUMMARY:Qigong mit einfachen Tai-Chi Elementen (26130124L) 
LOCATION:Laatzen, Leine-VHS, Senefelderstr. 17/19, Bewegungsraum 2.13, Senefelderstraße 17/19, 30880 Laatzen
END:VEVENT
BEGIN:VEVENT
DTSTAMP:20260424T180842
DTSTART;TZID=Europe/Berlin:20260427T174500
DTEND;TZID=Europe/Berlin:20260427T184500
UID:26130124L-20260427T174500@LEINE-VHS LAATZEN GGMBH
SUMMARY:Qigong mit einfachen Tai-Chi Elementen (26130124L) 
LOCATION:Laatzen, Leine-VHS, Senefelderstr. 17/19, Bewegungsraum 2.13, Senefelderstraße 17/19, 30880 Laatzen
END:VEVENT
BEGIN:VEVENT
DTSTAMP:20260424T180842
DTSTART;TZID=Europe/Berlin:20260504T174500
DTEND;TZID=Europe/Berlin:20260504T184500
UID:26130124L-20260504T174500@LEINE-VHS LAATZEN GGMBH
SUMMARY:Qigong mit einfachen Tai-Chi Elementen (26130124L) 
LOCATION:Laatzen, Leine-VHS, Senefelderstr. 17/19, Bewegungsraum 2.13, Senefelderstraße 17/19, 30880 Laatzen
END:VEVENT
BEGIN:VEVENT
DTSTAMP:20260424T180842
DTSTART;TZID=Europe/Berlin:20260511T174500
DTEND;TZID=Europe/Berlin:20260511T184500
UID:26130124L-20260511T174500@LEINE-VHS LAATZEN GGMBH
SUMMARY:Qigong mit einfachen Tai-Chi Elementen (26130124L) 
LOCATION:Laatzen, Leine-VHS, Senefelderstr. 17/19, Bewegungsraum 2.13, Senefelderstraße 17/19, 30880 Laatzen
END:VEVENT
BEGIN:VEVENT
DTSTAMP:20260424T180842
DTSTART;TZID=Europe/Berlin:20260518T174500
DTEND;TZID=Europe/Berlin:20260518T184500
UID:26130124L-20260518T174500@LEINE-VHS LAATZEN GGMBH
SUMMARY:Qigong mit einfachen Tai-Chi Elementen (26130124L) 
LOCATION:Laatzen, Leine-VHS, Senefelderstr. 17/19, Bewegungsraum 2.13, Senefelderstraße 17/19, 30880 Laatzen
END:VEVENT
BEGIN:VEVENT
DTSTAMP:20260424T180842
DTSTART;TZID=Europe/Berlin:20260601T174500
DTEND;TZID=Europe/Berlin:20260601T184500
UID:26130124L-20260601T174500@LEINE-VHS LAATZEN GGMBH
SUMMARY:Qigong mit einfachen Tai-Chi Elementen (26130124L) 
LOCATION:Laatzen, Leine-VHS, Senefelderstr. 17/19, Bewegungsraum 2.13, Senefelderstraße 17/19, 30880 Laatzen
END:VEVENT
END:VCALENDAR