BEGIN:VCALENDAR
PRODID:http://www.kufer.de/kuferweb / DE
VERSION:2.0
METHOD:PUBLISH
CALSCALE:GREGORIAN
X-WR-TIMEZONE:Europe/Berlin
BEGIN:VTIMEZONE
TZID:Europe/Berlin
X-LIC-LOCATION:Europe/Berlin
BEGIN:DAYLIGHT
TZOFFSETFROM:+0100
TZOFFSETTO:+0200
TZNAME:CEST
DTSTART;TZID=Europe/Berlin:19700329T020000
RRULE:FREQ=YEARLY;INTERVAL=1;BYDAY=-1SU;BYMONTH=3
END:DAYLIGHT
BEGIN:STANDARD
TZOFFSETFROM:+0200
TZOFFSETTO:+0100
TZNAME:CET
DTSTART;TZID=Europe/Berlin:19701025T030000
RRULE:FREQ=YEARLY;INTERVAL=1;BYDAY=-1SU;BYMONTH=10
END:STANDARD
END:VTIMEZONE
BEGIN:VEVENT
DTSTAMP:20260424T112139
DTSTART;TZID=Europe/Berlin:20260513T090000
DTEND;TZID=Europe/Berlin:20260513T094500
UID:26130237H-20260513T090000@LEINE-VHS LAATZEN GGMBH
SUMMARY:Aquafitness - mit Energie in den Frühling (26130237H) 
LOCATION:Hemmingen-Westerfeld, Büntebad, Hohe Bünte, Multifunktionsbecken, Hohe Bünte  6, 30966 Hemmingen
END:VEVENT
BEGIN:VEVENT
DTSTAMP:20260424T112139
DTSTART;TZID=Europe/Berlin:20260520T090000
DTEND;TZID=Europe/Berlin:20260520T094500
UID:26130237H-20260520T090000@LEINE-VHS LAATZEN GGMBH
SUMMARY:Aquafitness - mit Energie in den Frühling (26130237H) 
LOCATION:Hemmingen-Westerfeld, Büntebad, Hohe Bünte, Multifunktionsbecken, Hohe Bünte  6, 30966 Hemmingen
END:VEVENT
BEGIN:VEVENT
DTSTAMP:20260424T112139
DTSTART;TZID=Europe/Berlin:20260527T090000
DTEND;TZID=Europe/Berlin:20260527T094500
UID:26130237H-20260527T090000@LEINE-VHS LAATZEN GGMBH
SUMMARY:Aquafitness - mit Energie in den Frühling (26130237H) 
LOCATION:Hemmingen-Westerfeld, Büntebad, Hohe Bünte, Multifunktionsbecken, Hohe Bünte  6, 30966 Hemmingen
END:VEVENT
BEGIN:VEVENT
DTSTAMP:20260424T112139
DTSTART;TZID=Europe/Berlin:20260603T090000
DTEND;TZID=Europe/Berlin:20260603T094500
UID:26130237H-20260603T090000@LEINE-VHS LAATZEN GGMBH
SUMMARY:Aquafitness - mit Energie in den Frühling (26130237H) 
LOCATION:Hemmingen-Westerfeld, Büntebad, Hohe Bünte, Multifunktionsbecken, Hohe Bünte  6, 30966 Hemmingen
END:VEVENT
BEGIN:VEVENT
DTSTAMP:20260424T112139
DTSTART;TZID=Europe/Berlin:20260610T090000
DTEND;TZID=Europe/Berlin:20260610T094500
UID:26130237H-20260610T090000@LEINE-VHS LAATZEN GGMBH
SUMMARY:Aquafitness - mit Energie in den Frühling (26130237H) 
LOCATION:Hemmingen-Westerfeld, Büntebad, Hohe Bünte, Multifunktionsbecken, Hohe Bünte  6, 30966 Hemmingen
END:VEVENT
BEGIN:VEVENT
DTSTAMP:20260424T112139
DTSTART;TZID=Europe/Berlin:20260617T090000
DTEND;TZID=Europe/Berlin:20260617T094500
UID:26130237H-20260617T090000@LEINE-VHS LAATZEN GGMBH
SUMMARY:Aquafitness - mit Energie in den Frühling (26130237H) 
LOCATION:Hemmingen-Westerfeld, Büntebad, Hohe Bünte, Multifunktionsbecken, Hohe Bünte  6, 30966 Hemmingen
END:VEVENT
BEGIN:VEVENT
DTSTAMP:20260424T112139
DTSTART;TZID=Europe/Berlin:20260624T090000
DTEND;TZID=Europe/Berlin:20260624T094500
UID:26130237H-20260624T090000@LEINE-VHS LAATZEN GGMBH
SUMMARY:Aquafitness - mit Energie in den Frühling (26130237H) 
LOCATION:Hemmingen-Westerfeld, Büntebad, Hohe Bünte, Multifunktionsbecken, Hohe Bünte  6, 30966 Hemmingen
END:VEVENT
BEGIN:VEVENT
DTSTAMP:20260424T112139
DTSTART;TZID=Europe/Berlin:20260701T090000
DTEND;TZID=Europe/Berlin:20260701T094500
UID:26130237H-20260701T090000@LEINE-VHS LAATZEN GGMBH
SUMMARY:Aquafitness - mit Energie in den Frühling (26130237H) 
LOCATION:Hemmingen-Westerfeld, Büntebad, Hohe Bünte, Multifunktionsbecken, Hohe Bünte  6, 30966 Hemmingen
END:VEVENT
END:VCALENDAR