BEGIN:VCALENDAR
PRODID:http://www.kufer.de/kuferweb / DE
VERSION:2.0
METHOD:PUBLISH
CALSCALE:GREGORIAN
X-WR-TIMEZONE:Europe/Berlin
BEGIN:VTIMEZONE
TZID:Europe/Berlin
X-LIC-LOCATION:Europe/Berlin
BEGIN:DAYLIGHT
TZOFFSETFROM:+0100
TZOFFSETTO:+0200
TZNAME:CEST
DTSTART;TZID=Europe/Berlin:19700329T020000
RRULE:FREQ=YEARLY;INTERVAL=1;BYDAY=-1SU;BYMONTH=3
END:DAYLIGHT
BEGIN:STANDARD
TZOFFSETFROM:+0200
TZOFFSETTO:+0100
TZNAME:CET
DTSTART;TZID=Europe/Berlin:19701025T030000
RRULE:FREQ=YEARLY;INTERVAL=1;BYDAY=-1SU;BYMONTH=10
END:STANDARD
END:VTIMEZONE
BEGIN:VEVENT
DTSTAMP:20260424T130304
DTSTART;TZID=Europe/Berlin:20260523T083000
DTEND;TZID=Europe/Berlin:20260523T093000
UID:26130247L-20260523T083000@LEINE-VHS LAATZEN GGMBH
SUMMARY:Laufzeit - Ihr Weg zu mehr Energie Für Anfänger*innen und Wiedereinsteiger*innen (26130247L) 
LOCATION:Laatzen, , 
END:VEVENT
BEGIN:VEVENT
DTSTAMP:20260424T130304
DTSTART;TZID=Europe/Berlin:20260530T083000
DTEND;TZID=Europe/Berlin:20260530T093000
UID:26130247L-20260530T083000@LEINE-VHS LAATZEN GGMBH
SUMMARY:Laufzeit - Ihr Weg zu mehr Energie Für Anfänger*innen und Wiedereinsteiger*innen (26130247L) 
LOCATION:Laatzen, , 
END:VEVENT
BEGIN:VEVENT
DTSTAMP:20260424T130304
DTSTART;TZID=Europe/Berlin:20260606T083000
DTEND;TZID=Europe/Berlin:20260606T093000
UID:26130247L-20260606T083000@LEINE-VHS LAATZEN GGMBH
SUMMARY:Laufzeit - Ihr Weg zu mehr Energie Für Anfänger*innen und Wiedereinsteiger*innen (26130247L) 
LOCATION:Laatzen, , 
END:VEVENT
BEGIN:VEVENT
DTSTAMP:20260424T130304
DTSTART;TZID=Europe/Berlin:20260613T083000
DTEND;TZID=Europe/Berlin:20260613T093000
UID:26130247L-20260613T083000@LEINE-VHS LAATZEN GGMBH
SUMMARY:Laufzeit - Ihr Weg zu mehr Energie Für Anfänger*innen und Wiedereinsteiger*innen (26130247L) 
LOCATION:Laatzen, , 
END:VEVENT
BEGIN:VEVENT
DTSTAMP:20260424T130304
DTSTART;TZID=Europe/Berlin:20260620T083000
DTEND;TZID=Europe/Berlin:20260620T093000
UID:26130247L-20260620T083000@LEINE-VHS LAATZEN GGMBH
SUMMARY:Laufzeit - Ihr Weg zu mehr Energie Für Anfänger*innen und Wiedereinsteiger*innen (26130247L) 
LOCATION:Laatzen, , 
END:VEVENT
BEGIN:VEVENT
DTSTAMP:20260424T130304
DTSTART;TZID=Europe/Berlin:20260627T083000
DTEND;TZID=Europe/Berlin:20260627T093000
UID:26130247L-20260627T083000@LEINE-VHS LAATZEN GGMBH
SUMMARY:Laufzeit - Ihr Weg zu mehr Energie Für Anfänger*innen und Wiedereinsteiger*innen (26130247L) 
LOCATION:Laatzen, , 
END:VEVENT
END:VCALENDAR