BEGIN:VCALENDAR
PRODID:http://www.kufer.de/kuferweb / DE
VERSION:2.0
METHOD:PUBLISH
CALSCALE:GREGORIAN
X-WR-TIMEZONE:Europe/Berlin
BEGIN:VTIMEZONE
TZID:Europe/Berlin
X-LIC-LOCATION:Europe/Berlin
BEGIN:DAYLIGHT
TZOFFSETFROM:+0100
TZOFFSETTO:+0200
TZNAME:CEST
DTSTART;TZID=Europe/Berlin:19700329T020000
RRULE:FREQ=YEARLY;INTERVAL=1;BYDAY=-1SU;BYMONTH=3
END:DAYLIGHT
BEGIN:STANDARD
TZOFFSETFROM:+0200
TZOFFSETTO:+0100
TZNAME:CET
DTSTART;TZID=Europe/Berlin:19701025T030000
RRULE:FREQ=YEARLY;INTERVAL=1;BYDAY=-1SU;BYMONTH=10
END:STANDARD
END:VTIMEZONE
BEGIN:VEVENT
DTSTAMP:20260424T112643
DTSTART;TZID=Europe/Berlin:20260212T110000
DTEND;TZID=Europe/Berlin:20260212T120000
UID:26130306H-20260212T110000@LEINE-VHS LAATZEN GGMBH
SUMMARY:Rückenfit (26130306H) 
LOCATION:Hemmingen-Westerfeld, VHS-Geschäftsstelle, Gutenbergstraße 2, B10, Gutenbergstraße 2, 30966 Hemmingen
END:VEVENT
BEGIN:VEVENT
DTSTAMP:20260424T112643
DTSTART;TZID=Europe/Berlin:20260219T110000
DTEND;TZID=Europe/Berlin:20260219T120000
UID:26130306H-20260219T110000@LEINE-VHS LAATZEN GGMBH
SUMMARY:Rückenfit (26130306H) 
LOCATION:Hemmingen-Westerfeld, VHS-Geschäftsstelle, Gutenbergstraße 2, B10, Gutenbergstraße 2, 30966 Hemmingen
END:VEVENT
BEGIN:VEVENT
DTSTAMP:20260424T112643
DTSTART;TZID=Europe/Berlin:20260226T110000
DTEND;TZID=Europe/Berlin:20260226T120000
UID:26130306H-20260226T110000@LEINE-VHS LAATZEN GGMBH
SUMMARY:Rückenfit (26130306H) 
LOCATION:Hemmingen-Westerfeld, VHS-Geschäftsstelle, Gutenbergstraße 2, B10, Gutenbergstraße 2, 30966 Hemmingen
END:VEVENT
BEGIN:VEVENT
DTSTAMP:20260424T112643
DTSTART;TZID=Europe/Berlin:20260305T110000
DTEND;TZID=Europe/Berlin:20260305T120000
UID:26130306H-20260305T110000@LEINE-VHS LAATZEN GGMBH
SUMMARY:Rückenfit (26130306H) 
LOCATION:Hemmingen-Westerfeld, VHS-Geschäftsstelle, Gutenbergstraße 2, B10, Gutenbergstraße 2, 30966 Hemmingen
END:VEVENT
BEGIN:VEVENT
DTSTAMP:20260424T112643
DTSTART;TZID=Europe/Berlin:20260312T110000
DTEND;TZID=Europe/Berlin:20260312T120000
UID:26130306H-20260312T110000@LEINE-VHS LAATZEN GGMBH
SUMMARY:Rückenfit (26130306H) 
LOCATION:Hemmingen-Westerfeld, VHS-Geschäftsstelle, Gutenbergstraße 2, B10, Gutenbergstraße 2, 30966 Hemmingen
END:VEVENT
BEGIN:VEVENT
DTSTAMP:20260424T112643
DTSTART;TZID=Europe/Berlin:20260319T110000
DTEND;TZID=Europe/Berlin:20260319T120000
UID:26130306H-20260319T110000@LEINE-VHS LAATZEN GGMBH
SUMMARY:Rückenfit (26130306H) 
LOCATION:Hemmingen-Westerfeld, VHS-Geschäftsstelle, Gutenbergstraße 2, B10, Gutenbergstraße 2, 30966 Hemmingen
END:VEVENT
BEGIN:VEVENT
DTSTAMP:20260424T112643
DTSTART;TZID=Europe/Berlin:20260409T110000
DTEND;TZID=Europe/Berlin:20260409T120000
UID:26130306H-20260409T110000@LEINE-VHS LAATZEN GGMBH
SUMMARY:Rückenfit (26130306H) 
LOCATION:Hemmingen-Westerfeld, VHS-Geschäftsstelle, Gutenbergstraße 2, B10, Gutenbergstraße 2, 30966 Hemmingen
END:VEVENT
BEGIN:VEVENT
DTSTAMP:20260424T112643
DTSTART;TZID=Europe/Berlin:20260416T110000
DTEND;TZID=Europe/Berlin:20260416T120000
UID:26130306H-20260416T110000@LEINE-VHS LAATZEN GGMBH
SUMMARY:Rückenfit (26130306H) 
LOCATION:Hemmingen-Westerfeld, VHS-Geschäftsstelle, Gutenbergstraße 2, B10, Gutenbergstraße 2, 30966 Hemmingen
END:VEVENT
BEGIN:VEVENT
DTSTAMP:20260424T112643
DTSTART;TZID=Europe/Berlin:20260423T110000
DTEND;TZID=Europe/Berlin:20260423T120000
UID:26130306H-20260423T110000@LEINE-VHS LAATZEN GGMBH
SUMMARY:Rückenfit (26130306H) 
LOCATION:Hemmingen-Westerfeld, VHS-Geschäftsstelle, Gutenbergstraße 2, B10, Gutenbergstraße 2, 30966 Hemmingen
END:VEVENT
BEGIN:VEVENT
DTSTAMP:20260424T112643
DTSTART;TZID=Europe/Berlin:20260430T110000
DTEND;TZID=Europe/Berlin:20260430T120000
UID:26130306H-20260430T110000@LEINE-VHS LAATZEN GGMBH
SUMMARY:Rückenfit (26130306H) 
LOCATION:Hemmingen-Westerfeld, VHS-Geschäftsstelle, Gutenbergstraße 2, B10, Gutenbergstraße 2, 30966 Hemmingen
END:VEVENT
BEGIN:VEVENT
DTSTAMP:20260424T112643
DTSTART;TZID=Europe/Berlin:20260507T110000
DTEND;TZID=Europe/Berlin:20260507T120000
UID:26130306H-20260507T110000@LEINE-VHS LAATZEN GGMBH
SUMMARY:Rückenfit (26130306H) 
LOCATION:Hemmingen-Westerfeld, VHS-Geschäftsstelle, Gutenbergstraße 2, B10, Gutenbergstraße 2, 30966 Hemmingen
END:VEVENT
BEGIN:VEVENT
DTSTAMP:20260424T112643
DTSTART;TZID=Europe/Berlin:20260521T110000
DTEND;TZID=Europe/Berlin:20260521T120000
UID:26130306H-20260521T110000@LEINE-VHS LAATZEN GGMBH
SUMMARY:Rückenfit (26130306H) 
LOCATION:Hemmingen-Westerfeld, VHS-Geschäftsstelle, Gutenbergstraße 2, B10, Gutenbergstraße 2, 30966 Hemmingen
END:VEVENT
BEGIN:VEVENT
DTSTAMP:20260424T112643
DTSTART;TZID=Europe/Berlin:20260528T110000
DTEND;TZID=Europe/Berlin:20260528T120000
UID:26130306H-20260528T110000@LEINE-VHS LAATZEN GGMBH
SUMMARY:Rückenfit (26130306H) 
LOCATION:Hemmingen-Westerfeld, VHS-Geschäftsstelle, Gutenbergstraße 2, B10, Gutenbergstraße 2, 30966 Hemmingen
END:VEVENT
BEGIN:VEVENT
DTSTAMP:20260424T112643
DTSTART;TZID=Europe/Berlin:20260604T110000
DTEND;TZID=Europe/Berlin:20260604T120000
UID:26130306H-20260604T110000@LEINE-VHS LAATZEN GGMBH
SUMMARY:Rückenfit (26130306H) 
LOCATION:Hemmingen-Westerfeld, VHS-Geschäftsstelle, Gutenbergstraße 2, B10, Gutenbergstraße 2, 30966 Hemmingen
END:VEVENT
BEGIN:VEVENT
DTSTAMP:20260424T112643
DTSTART;TZID=Europe/Berlin:20260611T110000
DTEND;TZID=Europe/Berlin:20260611T120000
UID:26130306H-20260611T110000@LEINE-VHS LAATZEN GGMBH
SUMMARY:Rückenfit (26130306H) 
LOCATION:Hemmingen-Westerfeld, VHS-Geschäftsstelle, Gutenbergstraße 2, B10, Gutenbergstraße 2, 30966 Hemmingen
END:VEVENT
END:VCALENDAR