BEGIN:VCALENDAR
PRODID:http://www.kufer.de/kuferweb / DE
VERSION:2.0
METHOD:PUBLISH
CALSCALE:GREGORIAN
X-WR-TIMEZONE:Europe/Berlin
BEGIN:VTIMEZONE
TZID:Europe/Berlin
X-LIC-LOCATION:Europe/Berlin
BEGIN:DAYLIGHT
TZOFFSETFROM:+0100
TZOFFSETTO:+0200
TZNAME:CEST
DTSTART;TZID=Europe/Berlin:19700329T020000
RRULE:FREQ=YEARLY;INTERVAL=1;BYDAY=-1SU;BYMONTH=3
END:DAYLIGHT
BEGIN:STANDARD
TZOFFSETFROM:+0200
TZOFFSETTO:+0100
TZNAME:CET
DTSTART;TZID=Europe/Berlin:19701025T030000
RRULE:FREQ=YEARLY;INTERVAL=1;BYDAY=-1SU;BYMONTH=10
END:STANDARD
END:VTIMEZONE
BEGIN:VEVENT
DTSTAMP:20260424T095442
DTSTART;TZID=Europe/Berlin:20260316T083000
DTEND;TZID=Europe/Berlin:20260316T114500
UID:26140422L-20260316T083000@LEINE-VHS LAATZEN GGMBH
SUMMARY:Integrationskurs am Vormittag 278 / 6D (26140422L) 
LOCATION:Laatzen, Leine-VHS, Senefelderstr. 17/19, Unterricht 3.05, Senefelderstraße 17/19, 30880 Laatzen
END:VEVENT
BEGIN:VEVENT
DTSTAMP:20260424T095442
DTSTART;TZID=Europe/Berlin:20260317T083000
DTEND;TZID=Europe/Berlin:20260317T114500
UID:26140422L-20260317T083000@LEINE-VHS LAATZEN GGMBH
SUMMARY:Integrationskurs am Vormittag 278 / 6D (26140422L) 
LOCATION:Laatzen, Leine-VHS, Senefelderstr. 17/19, Unterricht 3.05, Senefelderstraße 17/19, 30880 Laatzen
END:VEVENT
BEGIN:VEVENT
DTSTAMP:20260424T095442
DTSTART;TZID=Europe/Berlin:20260318T083000
DTEND;TZID=Europe/Berlin:20260318T114500
UID:26140422L-20260318T083000@LEINE-VHS LAATZEN GGMBH
SUMMARY:Integrationskurs am Vormittag 278 / 6D (26140422L) 
LOCATION:Laatzen, Leine-VHS, Senefelderstr. 17/19, Unterricht 3.05, Senefelderstraße 17/19, 30880 Laatzen
END:VEVENT
BEGIN:VEVENT
DTSTAMP:20260424T095442
DTSTART;TZID=Europe/Berlin:20260319T083000
DTEND;TZID=Europe/Berlin:20260319T114500
UID:26140422L-20260319T083000@LEINE-VHS LAATZEN GGMBH
SUMMARY:Integrationskurs am Vormittag 278 / 6D (26140422L) 
LOCATION:Laatzen, Leine-VHS, Senefelderstr. 17/19, Unterricht 3.05, Senefelderstraße 17/19, 30880 Laatzen
END:VEVENT
BEGIN:VEVENT
DTSTAMP:20260424T095442
DTSTART;TZID=Europe/Berlin:20260320T083000
DTEND;TZID=Europe/Berlin:20260320T114500
UID:26140422L-20260320T083000@LEINE-VHS LAATZEN GGMBH
SUMMARY:Integrationskurs am Vormittag 278 / 6D (26140422L) 
LOCATION:Laatzen, Leine-VHS, Senefelderstr. 17/19, Unterricht 3.05, Senefelderstraße 17/19, 30880 Laatzen
END:VEVENT
BEGIN:VEVENT
DTSTAMP:20260424T095442
DTSTART;TZID=Europe/Berlin:20260408T083000
DTEND;TZID=Europe/Berlin:20260408T114500
UID:26140422L-20260408T083000@LEINE-VHS LAATZEN GGMBH
SUMMARY:Integrationskurs am Vormittag 278 / 6D (26140422L) 
LOCATION:Laatzen, Leine-VHS, Senefelderstr. 17/19, Unterricht 3.05, Senefelderstraße 17/19, 30880 Laatzen
END:VEVENT
BEGIN:VEVENT
DTSTAMP:20260424T095442
DTSTART;TZID=Europe/Berlin:20260409T083000
DTEND;TZID=Europe/Berlin:20260409T114500
UID:26140422L-20260409T083000@LEINE-VHS LAATZEN GGMBH
SUMMARY:Integrationskurs am Vormittag 278 / 6D (26140422L) 
LOCATION:Laatzen, Leine-VHS, Senefelderstr. 17/19, Unterricht 3.05, Senefelderstraße 17/19, 30880 Laatzen
END:VEVENT
BEGIN:VEVENT
DTSTAMP:20260424T095442
DTSTART;TZID=Europe/Berlin:20260410T083000
DTEND;TZID=Europe/Berlin:20260410T114500
UID:26140422L-20260410T083000@LEINE-VHS LAATZEN GGMBH
SUMMARY:Integrationskurs am Vormittag 278 / 6D (26140422L) 
LOCATION:Laatzen, Leine-VHS, Senefelderstr. 17/19, Unterricht 3.05, Senefelderstraße 17/19, 30880 Laatzen
END:VEVENT
BEGIN:VEVENT
DTSTAMP:20260424T095442
DTSTART;TZID=Europe/Berlin:20260413T083000
DTEND;TZID=Europe/Berlin:20260413T114500
UID:26140422L-20260413T083000@LEINE-VHS LAATZEN GGMBH
SUMMARY:Integrationskurs am Vormittag 278 / 6D (26140422L) 
LOCATION:Laatzen, Leine-VHS, Senefelderstr. 17/19, Unterricht 3.05, Senefelderstraße 17/19, 30880 Laatzen
END:VEVENT
BEGIN:VEVENT
DTSTAMP:20260424T095442
DTSTART;TZID=Europe/Berlin:20260414T083000
DTEND;TZID=Europe/Berlin:20260414T114500
UID:26140422L-20260414T083000@LEINE-VHS LAATZEN GGMBH
SUMMARY:Integrationskurs am Vormittag 278 / 6D (26140422L) 
LOCATION:Laatzen, Leine-VHS, Senefelderstr. 17/19, Unterricht 3.05, Senefelderstraße 17/19, 30880 Laatzen
END:VEVENT
BEGIN:VEVENT
DTSTAMP:20260424T095442
DTSTART;TZID=Europe/Berlin:20260415T083000
DTEND;TZID=Europe/Berlin:20260415T114500
UID:26140422L-20260415T083000@LEINE-VHS LAATZEN GGMBH
SUMMARY:Integrationskurs am Vormittag 278 / 6D (26140422L) 
LOCATION:Laatzen, Leine-VHS, Senefelderstr. 17/19, Unterricht 3.05, Senefelderstraße 17/19, 30880 Laatzen
END:VEVENT
BEGIN:VEVENT
DTSTAMP:20260424T095442
DTSTART;TZID=Europe/Berlin:20260416T083000
DTEND;TZID=Europe/Berlin:20260416T114500
UID:26140422L-20260416T083000@LEINE-VHS LAATZEN GGMBH
SUMMARY:Integrationskurs am Vormittag 278 / 6D (26140422L) 
LOCATION:Laatzen, Leine-VHS, Senefelderstr. 17/19, Unterricht 3.05, Senefelderstraße 17/19, 30880 Laatzen
END:VEVENT
BEGIN:VEVENT
DTSTAMP:20260424T095442
DTSTART;TZID=Europe/Berlin:20260417T083000
DTEND;TZID=Europe/Berlin:20260417T114500
UID:26140422L-20260417T083000@LEINE-VHS LAATZEN GGMBH
SUMMARY:Integrationskurs am Vormittag 278 / 6D (26140422L) 
LOCATION:Laatzen, Leine-VHS, Senefelderstr. 17/19, Unterricht 3.05, Senefelderstraße 17/19, 30880 Laatzen
END:VEVENT
BEGIN:VEVENT
DTSTAMP:20260424T095442
DTSTART;TZID=Europe/Berlin:20260420T083000
DTEND;TZID=Europe/Berlin:20260420T114500
UID:26140422L-20260420T083000@LEINE-VHS LAATZEN GGMBH
SUMMARY:Integrationskurs am Vormittag 278 / 6D (26140422L) 
LOCATION:Laatzen, Leine-VHS, Senefelderstr. 17/19, Unterricht 3.05, Senefelderstraße 17/19, 30880 Laatzen
END:VEVENT
BEGIN:VEVENT
DTSTAMP:20260424T095442
DTSTART;TZID=Europe/Berlin:20260421T083000
DTEND;TZID=Europe/Berlin:20260421T114500
UID:26140422L-20260421T083000@LEINE-VHS LAATZEN GGMBH
SUMMARY:Integrationskurs am Vormittag 278 / 6D (26140422L) 
LOCATION:Laatzen, Leine-VHS, Senefelderstr. 17/19, Unterricht 3.05, Senefelderstraße 17/19, 30880 Laatzen
END:VEVENT
BEGIN:VEVENT
DTSTAMP:20260424T095442
DTSTART;TZID=Europe/Berlin:20260422T083000
DTEND;TZID=Europe/Berlin:20260422T114500
UID:26140422L-20260422T083000@LEINE-VHS LAATZEN GGMBH
SUMMARY:Integrationskurs am Vormittag 278 / 6D (26140422L) 
LOCATION:Laatzen, Leine-VHS, Senefelderstr. 17/19, Unterricht 3.05, Senefelderstraße 17/19, 30880 Laatzen
END:VEVENT
BEGIN:VEVENT
DTSTAMP:20260424T095442
DTSTART;TZID=Europe/Berlin:20260423T083000
DTEND;TZID=Europe/Berlin:20260423T114500
UID:26140422L-20260423T083000@LEINE-VHS LAATZEN GGMBH
SUMMARY:Integrationskurs am Vormittag 278 / 6D (26140422L) 
LOCATION:Laatzen, Leine-VHS, Senefelderstr. 17/19, Unterricht 3.05, Senefelderstraße 17/19, 30880 Laatzen
END:VEVENT
BEGIN:VEVENT
DTSTAMP:20260424T095442
DTSTART;TZID=Europe/Berlin:20260424T083000
DTEND;TZID=Europe/Berlin:20260424T114500
UID:26140422L-20260424T083000@LEINE-VHS LAATZEN GGMBH
SUMMARY:Integrationskurs am Vormittag 278 / 6D (26140422L) 
LOCATION:Laatzen, Leine-VHS, Senefelderstr. 17/19, Unterricht 3.05, Senefelderstraße 17/19, 30880 Laatzen
END:VEVENT
BEGIN:VEVENT
DTSTAMP:20260424T095442
DTSTART;TZID=Europe/Berlin:20260427T083000
DTEND;TZID=Europe/Berlin:20260427T114500
UID:26140422L-20260427T083000@LEINE-VHS LAATZEN GGMBH
SUMMARY:Integrationskurs am Vormittag 278 / 6D (26140422L) 
LOCATION:Laatzen, Leine-VHS, Senefelderstr. 17/19, Unterricht 3.05, Senefelderstraße 17/19, 30880 Laatzen
END:VEVENT
BEGIN:VEVENT
DTSTAMP:20260424T095442
DTSTART;TZID=Europe/Berlin:20260428T083000
DTEND;TZID=Europe/Berlin:20260428T114500
UID:26140422L-20260428T083000@LEINE-VHS LAATZEN GGMBH
SUMMARY:Integrationskurs am Vormittag 278 / 6D (26140422L) 
LOCATION:Laatzen, Leine-VHS, Senefelderstr. 17/19, Unterricht 3.05, Senefelderstraße 17/19, 30880 Laatzen
END:VEVENT
BEGIN:VEVENT
DTSTAMP:20260424T095442
DTSTART;TZID=Europe/Berlin:20260429T083000
DTEND;TZID=Europe/Berlin:20260429T114500
UID:26140422L-20260429T083000@LEINE-VHS LAATZEN GGMBH
SUMMARY:Integrationskurs am Vormittag 278 / 6D (26140422L) 
LOCATION:Laatzen, Leine-VHS, Senefelderstr. 17/19, Unterricht 3.05, Senefelderstraße 17/19, 30880 Laatzen
END:VEVENT
BEGIN:VEVENT
DTSTAMP:20260424T095442
DTSTART;TZID=Europe/Berlin:20260430T083000
DTEND;TZID=Europe/Berlin:20260430T114500
UID:26140422L-20260430T083000@LEINE-VHS LAATZEN GGMBH
SUMMARY:Integrationskurs am Vormittag 278 / 6D (26140422L) 
LOCATION:Laatzen, Leine-VHS, Senefelderstr. 17/19, Unterricht 3.05, Senefelderstraße 17/19, 30880 Laatzen
END:VEVENT
BEGIN:VEVENT
DTSTAMP:20260424T095442
DTSTART;TZID=Europe/Berlin:20260504T083000
DTEND;TZID=Europe/Berlin:20260504T114500
UID:26140422L-20260504T083000@LEINE-VHS LAATZEN GGMBH
SUMMARY:Integrationskurs am Vormittag 278 / 6D (26140422L) 
LOCATION:Laatzen, Leine-VHS, Senefelderstr. 17/19, Unterricht 3.05, Senefelderstraße 17/19, 30880 Laatzen
END:VEVENT
BEGIN:VEVENT
DTSTAMP:20260424T095442
DTSTART;TZID=Europe/Berlin:20260505T083000
DTEND;TZID=Europe/Berlin:20260505T114500
UID:26140422L-20260505T083000@LEINE-VHS LAATZEN GGMBH
SUMMARY:Integrationskurs am Vormittag 278 / 6D (26140422L) 
LOCATION:Laatzen, Leine-VHS, Senefelderstr. 17/19, Unterricht 3.05, Senefelderstraße 17/19, 30880 Laatzen
END:VEVENT
BEGIN:VEVENT
DTSTAMP:20260424T095442
DTSTART;TZID=Europe/Berlin:20260506T083000
DTEND;TZID=Europe/Berlin:20260506T114500
UID:26140422L-20260506T083000@LEINE-VHS LAATZEN GGMBH
SUMMARY:Integrationskurs am Vormittag 278 / 6D (26140422L) 
LOCATION:Laatzen, Leine-VHS, Senefelderstr. 17/19, Unterricht 3.05, Senefelderstraße 17/19, 30880 Laatzen
END:VEVENT
END:VCALENDAR