BEGIN:VCALENDAR
PRODID:http://www.kufer.de/kuferweb / DE
VERSION:2.0
METHOD:PUBLISH
CALSCALE:GREGORIAN
X-WR-TIMEZONE:Europe/Berlin
BEGIN:VTIMEZONE
TZID:Europe/Berlin
X-LIC-LOCATION:Europe/Berlin
BEGIN:DAYLIGHT
TZOFFSETFROM:+0100
TZOFFSETTO:+0200
TZNAME:CEST
DTSTART;TZID=Europe/Berlin:19700329T020000
RRULE:FREQ=YEARLY;INTERVAL=1;BYDAY=-1SU;BYMONTH=3
END:DAYLIGHT
BEGIN:STANDARD
TZOFFSETFROM:+0200
TZOFFSETTO:+0100
TZNAME:CET
DTSTART;TZID=Europe/Berlin:19701025T030000
RRULE:FREQ=YEARLY;INTERVAL=1;BYDAY=-1SU;BYMONTH=10
END:STANDARD
END:VTIMEZONE
BEGIN:VEVENT
DTSTAMP:20260424T095526
DTSTART;TZID=Europe/Berlin:20260210T091500
DTEND;TZID=Europe/Berlin:20260210T104500
UID:26140608H-20260210T091500@LEINE-VHS LAATZEN GGMBH
SUMMARY:Englisch A1, Stufe III  Für Wiedereinsteiger*innen (26140608H) 
LOCATION:Hemmingen-Westerfeld, VHS-Geschäftsstelle, Gutenbergstraße 2, U4, Gutenbergstraße 2, 30966 Hemmingen
END:VEVENT
BEGIN:VEVENT
DTSTAMP:20260424T095526
DTSTART;TZID=Europe/Berlin:20260224T091500
DTEND;TZID=Europe/Berlin:20260224T104500
UID:26140608H-20260224T091500@LEINE-VHS LAATZEN GGMBH
SUMMARY:Englisch A1, Stufe III  Für Wiedereinsteiger*innen (26140608H) 
LOCATION:Hemmingen-Westerfeld, VHS-Geschäftsstelle, Gutenbergstraße 2, U4, Gutenbergstraße 2, 30966 Hemmingen
END:VEVENT
BEGIN:VEVENT
DTSTAMP:20260424T095526
DTSTART;TZID=Europe/Berlin:20260303T091500
DTEND;TZID=Europe/Berlin:20260303T104500
UID:26140608H-20260303T091500@LEINE-VHS LAATZEN GGMBH
SUMMARY:Englisch A1, Stufe III  Für Wiedereinsteiger*innen (26140608H) 
LOCATION:Hemmingen-Westerfeld, VHS-Geschäftsstelle, Gutenbergstraße 2, U4, Gutenbergstraße 2, 30966 Hemmingen
END:VEVENT
BEGIN:VEVENT
DTSTAMP:20260424T095526
DTSTART;TZID=Europe/Berlin:20260310T091500
DTEND;TZID=Europe/Berlin:20260310T104500
UID:26140608H-20260310T091500@LEINE-VHS LAATZEN GGMBH
SUMMARY:Englisch A1, Stufe III  Für Wiedereinsteiger*innen (26140608H) 
LOCATION:Hemmingen-Westerfeld, VHS-Geschäftsstelle, Gutenbergstraße 2, U4, Gutenbergstraße 2, 30966 Hemmingen
END:VEVENT
BEGIN:VEVENT
DTSTAMP:20260424T095526
DTSTART;TZID=Europe/Berlin:20260317T091500
DTEND;TZID=Europe/Berlin:20260317T104500
UID:26140608H-20260317T091500@LEINE-VHS LAATZEN GGMBH
SUMMARY:Englisch A1, Stufe III  Für Wiedereinsteiger*innen (26140608H) 
LOCATION:Hemmingen-Westerfeld, VHS-Geschäftsstelle, Gutenbergstraße 2, U4, Gutenbergstraße 2, 30966 Hemmingen
END:VEVENT
BEGIN:VEVENT
DTSTAMP:20260424T095526
DTSTART;TZID=Europe/Berlin:20260414T091500
DTEND;TZID=Europe/Berlin:20260414T104500
UID:26140608H-20260414T091500@LEINE-VHS LAATZEN GGMBH
SUMMARY:Englisch A1, Stufe III  Für Wiedereinsteiger*innen (26140608H) 
LOCATION:Hemmingen-Westerfeld, VHS-Geschäftsstelle, Gutenbergstraße 2, U4, Gutenbergstraße 2, 30966 Hemmingen
END:VEVENT
BEGIN:VEVENT
DTSTAMP:20260424T095526
DTSTART;TZID=Europe/Berlin:20260421T091500
DTEND;TZID=Europe/Berlin:20260421T104500
UID:26140608H-20260421T091500@LEINE-VHS LAATZEN GGMBH
SUMMARY:Englisch A1, Stufe III  Für Wiedereinsteiger*innen (26140608H) 
LOCATION:Hemmingen-Westerfeld, VHS-Geschäftsstelle, Gutenbergstraße 2, U4, Gutenbergstraße 2, 30966 Hemmingen
END:VEVENT
BEGIN:VEVENT
DTSTAMP:20260424T095526
DTSTART;TZID=Europe/Berlin:20260428T091500
DTEND;TZID=Europe/Berlin:20260428T104500
UID:26140608H-20260428T091500@LEINE-VHS LAATZEN GGMBH
SUMMARY:Englisch A1, Stufe III  Für Wiedereinsteiger*innen (26140608H) 
LOCATION:Hemmingen-Westerfeld, VHS-Geschäftsstelle, Gutenbergstraße 2, U4, Gutenbergstraße 2, 30966 Hemmingen
END:VEVENT
BEGIN:VEVENT
DTSTAMP:20260424T095526
DTSTART;TZID=Europe/Berlin:20260505T091500
DTEND;TZID=Europe/Berlin:20260505T104500
UID:26140608H-20260505T091500@LEINE-VHS LAATZEN GGMBH
SUMMARY:Englisch A1, Stufe III  Für Wiedereinsteiger*innen (26140608H) 
LOCATION:Hemmingen-Westerfeld, VHS-Geschäftsstelle, Gutenbergstraße 2, U4, Gutenbergstraße 2, 30966 Hemmingen
END:VEVENT
BEGIN:VEVENT
DTSTAMP:20260424T095526
DTSTART;TZID=Europe/Berlin:20260512T091500
DTEND;TZID=Europe/Berlin:20260512T104500
UID:26140608H-20260512T091500@LEINE-VHS LAATZEN GGMBH
SUMMARY:Englisch A1, Stufe III  Für Wiedereinsteiger*innen (26140608H) 
LOCATION:Hemmingen-Westerfeld, VHS-Geschäftsstelle, Gutenbergstraße 2, U4, Gutenbergstraße 2, 30966 Hemmingen
END:VEVENT
BEGIN:VEVENT
DTSTAMP:20260424T095526
DTSTART;TZID=Europe/Berlin:20260519T091500
DTEND;TZID=Europe/Berlin:20260519T104500
UID:26140608H-20260519T091500@LEINE-VHS LAATZEN GGMBH
SUMMARY:Englisch A1, Stufe III  Für Wiedereinsteiger*innen (26140608H) 
LOCATION:Hemmingen-Westerfeld, VHS-Geschäftsstelle, Gutenbergstraße 2, U4, Gutenbergstraße 2, 30966 Hemmingen
END:VEVENT
BEGIN:VEVENT
DTSTAMP:20260424T095526
DTSTART;TZID=Europe/Berlin:20260602T091500
DTEND;TZID=Europe/Berlin:20260602T104500
UID:26140608H-20260602T091500@LEINE-VHS LAATZEN GGMBH
SUMMARY:Englisch A1, Stufe III  Für Wiedereinsteiger*innen (26140608H) 
LOCATION:Hemmingen-Westerfeld, VHS-Geschäftsstelle, Gutenbergstraße 2, U4, Gutenbergstraße 2, 30966 Hemmingen
END:VEVENT
BEGIN:VEVENT
DTSTAMP:20260424T095526
DTSTART;TZID=Europe/Berlin:20260609T091500
DTEND;TZID=Europe/Berlin:20260609T104500
UID:26140608H-20260609T091500@LEINE-VHS LAATZEN GGMBH
SUMMARY:Englisch A1, Stufe III  Für Wiedereinsteiger*innen (26140608H) 
LOCATION:Hemmingen-Westerfeld, VHS-Geschäftsstelle, Gutenbergstraße 2, U4, Gutenbergstraße 2, 30966 Hemmingen
END:VEVENT
BEGIN:VEVENT
DTSTAMP:20260424T095526
DTSTART;TZID=Europe/Berlin:20260616T091500
DTEND;TZID=Europe/Berlin:20260616T104500
UID:26140608H-20260616T091500@LEINE-VHS LAATZEN GGMBH
SUMMARY:Englisch A1, Stufe III  Für Wiedereinsteiger*innen (26140608H) 
LOCATION:Hemmingen-Westerfeld, VHS-Geschäftsstelle, Gutenbergstraße 2, U4, Gutenbergstraße 2, 30966 Hemmingen
END:VEVENT
BEGIN:VEVENT
DTSTAMP:20260424T095526
DTSTART;TZID=Europe/Berlin:20260623T091500
DTEND;TZID=Europe/Berlin:20260623T104500
UID:26140608H-20260623T091500@LEINE-VHS LAATZEN GGMBH
SUMMARY:Englisch A1, Stufe III  Für Wiedereinsteiger*innen (26140608H) 
LOCATION:Hemmingen-Westerfeld, VHS-Geschäftsstelle, Gutenbergstraße 2, U4, Gutenbergstraße 2, 30966 Hemmingen
END:VEVENT
END:VCALENDAR