BEGIN:VCALENDAR
PRODID:http://www.kufer.de/kuferweb / DE
VERSION:2.0
METHOD:PUBLISH
CALSCALE:GREGORIAN
X-WR-TIMEZONE:Europe/Berlin
BEGIN:VTIMEZONE
TZID:Europe/Berlin
X-LIC-LOCATION:Europe/Berlin
BEGIN:DAYLIGHT
TZOFFSETFROM:+0100
TZOFFSETTO:+0200
TZNAME:CEST
DTSTART;TZID=Europe/Berlin:19700329T020000
RRULE:FREQ=YEARLY;INTERVAL=1;BYDAY=-1SU;BYMONTH=3
END:DAYLIGHT
BEGIN:STANDARD
TZOFFSETFROM:+0200
TZOFFSETTO:+0100
TZNAME:CET
DTSTART;TZID=Europe/Berlin:19701025T030000
RRULE:FREQ=YEARLY;INTERVAL=1;BYDAY=-1SU;BYMONTH=10
END:STANDARD
END:VTIMEZONE
BEGIN:VEVENT
DTSTAMP:20260424T180846
DTSTART;TZID=Europe/Berlin:20260202T111500
DTEND;TZID=Europe/Berlin:20260202T124500
UID:26140621L-20260202T111500@LEINE-VHS LAATZEN GGMBH
SUMMARY:Englisch A2, Stufe I Für Wiedereinsteiger*innen am Vormittag (26140621L) 
LOCATION:Laatzen, Leine-VHS, Senefelderstr. 17/19, Unterricht 0.12, Senefelderstr. 17/19, 30880 Laatzen
END:VEVENT
BEGIN:VEVENT
DTSTAMP:20260424T180846
DTSTART;TZID=Europe/Berlin:20260209T111500
DTEND;TZID=Europe/Berlin:20260209T124500
UID:26140621L-20260209T111500@LEINE-VHS LAATZEN GGMBH
SUMMARY:Englisch A2, Stufe I Für Wiedereinsteiger*innen am Vormittag (26140621L) 
LOCATION:Laatzen, Leine-VHS, Senefelderstr. 17/19, Unterricht 0.12, Senefelderstr. 17/19, 30880 Laatzen
END:VEVENT
BEGIN:VEVENT
DTSTAMP:20260424T180846
DTSTART;TZID=Europe/Berlin:20260216T111500
DTEND;TZID=Europe/Berlin:20260216T124500
UID:26140621L-20260216T111500@LEINE-VHS LAATZEN GGMBH
SUMMARY:Englisch A2, Stufe I Für Wiedereinsteiger*innen am Vormittag (26140621L) 
LOCATION:Laatzen, Leine-VHS, Senefelderstr. 17/19, Unterricht 0.12, Senefelderstr. 17/19, 30880 Laatzen
END:VEVENT
BEGIN:VEVENT
DTSTAMP:20260424T180846
DTSTART;TZID=Europe/Berlin:20260223T111500
DTEND;TZID=Europe/Berlin:20260223T124500
UID:26140621L-20260223T111500@LEINE-VHS LAATZEN GGMBH
SUMMARY:Englisch A2, Stufe I Für Wiedereinsteiger*innen am Vormittag (26140621L) 
LOCATION:Laatzen, Leine-VHS, Senefelderstr. 17/19, Unterricht 0.12, Senefelderstr. 17/19, 30880 Laatzen
END:VEVENT
BEGIN:VEVENT
DTSTAMP:20260424T180846
DTSTART;TZID=Europe/Berlin:20260302T111500
DTEND;TZID=Europe/Berlin:20260302T124500
UID:26140621L-20260302T111500@LEINE-VHS LAATZEN GGMBH
SUMMARY:Englisch A2, Stufe I Für Wiedereinsteiger*innen am Vormittag (26140621L) 
LOCATION:Laatzen, Leine-VHS, Senefelderstr. 17/19, Unterricht 0.12, Senefelderstr. 17/19, 30880 Laatzen
END:VEVENT
BEGIN:VEVENT
DTSTAMP:20260424T180846
DTSTART;TZID=Europe/Berlin:20260309T111500
DTEND;TZID=Europe/Berlin:20260309T124500
UID:26140621L-20260309T111500@LEINE-VHS LAATZEN GGMBH
SUMMARY:Englisch A2, Stufe I Für Wiedereinsteiger*innen am Vormittag (26140621L) 
LOCATION:Laatzen, Leine-VHS, Senefelderstr. 17/19, Unterricht 0.12, Senefelderstr. 17/19, 30880 Laatzen
END:VEVENT
BEGIN:VEVENT
DTSTAMP:20260424T180846
DTSTART;TZID=Europe/Berlin:20260316T111500
DTEND;TZID=Europe/Berlin:20260316T124500
UID:26140621L-20260316T111500@LEINE-VHS LAATZEN GGMBH
SUMMARY:Englisch A2, Stufe I Für Wiedereinsteiger*innen am Vormittag (26140621L) 
LOCATION:Laatzen, Leine-VHS, Senefelderstr. 17/19, Unterricht 0.12, Senefelderstr. 17/19, 30880 Laatzen
END:VEVENT
BEGIN:VEVENT
DTSTAMP:20260424T180846
DTSTART;TZID=Europe/Berlin:20260413T111500
DTEND;TZID=Europe/Berlin:20260413T124500
UID:26140621L-20260413T111500@LEINE-VHS LAATZEN GGMBH
SUMMARY:Englisch A2, Stufe I Für Wiedereinsteiger*innen am Vormittag (26140621L) 
LOCATION:Laatzen, Leine-VHS, Senefelderstr. 17/19, Unterricht 0.12, Senefelderstr. 17/19, 30880 Laatzen
END:VEVENT
BEGIN:VEVENT
DTSTAMP:20260424T180846
DTSTART;TZID=Europe/Berlin:20260420T111500
DTEND;TZID=Europe/Berlin:20260420T124500
UID:26140621L-20260420T111500@LEINE-VHS LAATZEN GGMBH
SUMMARY:Englisch A2, Stufe I Für Wiedereinsteiger*innen am Vormittag (26140621L) 
LOCATION:Laatzen, Leine-VHS, Senefelderstr. 17/19, Unterricht 0.12, Senefelderstr. 17/19, 30880 Laatzen
END:VEVENT
BEGIN:VEVENT
DTSTAMP:20260424T180846
DTSTART;TZID=Europe/Berlin:20260427T111500
DTEND;TZID=Europe/Berlin:20260427T124500
UID:26140621L-20260427T111500@LEINE-VHS LAATZEN GGMBH
SUMMARY:Englisch A2, Stufe I Für Wiedereinsteiger*innen am Vormittag (26140621L) 
LOCATION:Laatzen, Leine-VHS, Senefelderstr. 17/19, Unterricht 0.12, Senefelderstr. 17/19, 30880 Laatzen
END:VEVENT
BEGIN:VEVENT
DTSTAMP:20260424T180846
DTSTART;TZID=Europe/Berlin:20260504T111500
DTEND;TZID=Europe/Berlin:20260504T124500
UID:26140621L-20260504T111500@LEINE-VHS LAATZEN GGMBH
SUMMARY:Englisch A2, Stufe I Für Wiedereinsteiger*innen am Vormittag (26140621L) 
LOCATION:Laatzen, Leine-VHS, Senefelderstr. 17/19, Unterricht 0.12, Senefelderstr. 17/19, 30880 Laatzen
END:VEVENT
BEGIN:VEVENT
DTSTAMP:20260424T180846
DTSTART;TZID=Europe/Berlin:20260511T111500
DTEND;TZID=Europe/Berlin:20260511T124500
UID:26140621L-20260511T111500@LEINE-VHS LAATZEN GGMBH
SUMMARY:Englisch A2, Stufe I Für Wiedereinsteiger*innen am Vormittag (26140621L) 
LOCATION:Laatzen, Leine-VHS, Senefelderstr. 17/19, Unterricht 0.12, Senefelderstr. 17/19, 30880 Laatzen
END:VEVENT
BEGIN:VEVENT
DTSTAMP:20260424T180846
DTSTART;TZID=Europe/Berlin:20260518T111500
DTEND;TZID=Europe/Berlin:20260518T124500
UID:26140621L-20260518T111500@LEINE-VHS LAATZEN GGMBH
SUMMARY:Englisch A2, Stufe I Für Wiedereinsteiger*innen am Vormittag (26140621L) 
LOCATION:Laatzen, Leine-VHS, Senefelderstr. 17/19, Unterricht 0.12, Senefelderstr. 17/19, 30880 Laatzen
END:VEVENT
BEGIN:VEVENT
DTSTAMP:20260424T180846
DTSTART;TZID=Europe/Berlin:20260601T111500
DTEND;TZID=Europe/Berlin:20260601T124500
UID:26140621L-20260601T111500@LEINE-VHS LAATZEN GGMBH
SUMMARY:Englisch A2, Stufe I Für Wiedereinsteiger*innen am Vormittag (26140621L) 
LOCATION:Laatzen, Leine-VHS, Senefelderstr. 17/19, Unterricht 0.12, Senefelderstr. 17/19, 30880 Laatzen
END:VEVENT
BEGIN:VEVENT
DTSTAMP:20260424T180846
DTSTART;TZID=Europe/Berlin:20260608T111500
DTEND;TZID=Europe/Berlin:20260608T124500
UID:26140621L-20260608T111500@LEINE-VHS LAATZEN GGMBH
SUMMARY:Englisch A2, Stufe I Für Wiedereinsteiger*innen am Vormittag (26140621L) 
LOCATION:Laatzen, Leine-VHS, Senefelderstr. 17/19, Unterricht 0.12, Senefelderstr. 17/19, 30880 Laatzen
END:VEVENT
END:VCALENDAR