BEGIN:VCALENDAR
PRODID:http://www.kufer.de/kuferweb / DE
VERSION:2.0
METHOD:PUBLISH
CALSCALE:GREGORIAN
X-WR-TIMEZONE:Europe/Berlin
BEGIN:VTIMEZONE
TZID:Europe/Berlin
X-LIC-LOCATION:Europe/Berlin
BEGIN:DAYLIGHT
TZOFFSETFROM:+0100
TZOFFSETTO:+0200
TZNAME:CEST
DTSTART;TZID=Europe/Berlin:19700329T020000
RRULE:FREQ=YEARLY;INTERVAL=1;BYDAY=-1SU;BYMONTH=3
END:DAYLIGHT
BEGIN:STANDARD
TZOFFSETFROM:+0200
TZOFFSETTO:+0100
TZNAME:CET
DTSTART;TZID=Europe/Berlin:19701025T030000
RRULE:FREQ=YEARLY;INTERVAL=1;BYDAY=-1SU;BYMONTH=10
END:STANDARD
END:VTIMEZONE
BEGIN:VEVENT
DTSTAMP:20260424T124637
DTSTART;TZID=Europe/Berlin:20260224T140000
DTEND;TZID=Europe/Berlin:20260224T153000
UID:26140658L-20260224T140000@LEINE-VHS LAATZEN GGMBH
SUMMARY:Englisch B1  English for Tea-Time (26140658L) 
LOCATION:Laatzen, Leine-VHS, Senefelderstr. 17/19, Unterricht 0.12, Senefelderstr. 17/19, 30880 Laatzen
END:VEVENT
BEGIN:VEVENT
DTSTAMP:20260424T124637
DTSTART;TZID=Europe/Berlin:20260303T140000
DTEND;TZID=Europe/Berlin:20260303T153000
UID:26140658L-20260303T140000@LEINE-VHS LAATZEN GGMBH
SUMMARY:Englisch B1  English for Tea-Time (26140658L) 
LOCATION:Laatzen, Leine-VHS, Senefelderstr. 17/19, Unterricht 0.12, Senefelderstr. 17/19, 30880 Laatzen
END:VEVENT
BEGIN:VEVENT
DTSTAMP:20260424T124637
DTSTART;TZID=Europe/Berlin:20260317T140000
DTEND;TZID=Europe/Berlin:20260317T153000
UID:26140658L-20260317T140000@LEINE-VHS LAATZEN GGMBH
SUMMARY:Englisch B1  English for Tea-Time (26140658L) 
LOCATION:Laatzen, Leine-VHS, Senefelderstr. 17/19, Unterricht 0.12, Senefelderstr. 17/19, 30880 Laatzen
END:VEVENT
BEGIN:VEVENT
DTSTAMP:20260424T124637
DTSTART;TZID=Europe/Berlin:20260414T140000
DTEND;TZID=Europe/Berlin:20260414T153000
UID:26140658L-20260414T140000@LEINE-VHS LAATZEN GGMBH
SUMMARY:Englisch B1  English for Tea-Time (26140658L) 
LOCATION:Laatzen, Leine-VHS, Senefelderstr. 17/19, Unterricht 0.12, Senefelderstr. 17/19, 30880 Laatzen
END:VEVENT
BEGIN:VEVENT
DTSTAMP:20260424T124637
DTSTART;TZID=Europe/Berlin:20260428T140000
DTEND;TZID=Europe/Berlin:20260428T153000
UID:26140658L-20260428T140000@LEINE-VHS LAATZEN GGMBH
SUMMARY:Englisch B1  English for Tea-Time (26140658L) 
LOCATION:Laatzen, Leine-VHS, Senefelderstr. 17/19, Unterricht 0.12, Senefelderstr. 17/19, 30880 Laatzen
END:VEVENT
BEGIN:VEVENT
DTSTAMP:20260424T124637
DTSTART;TZID=Europe/Berlin:20260512T140000
DTEND;TZID=Europe/Berlin:20260512T153000
UID:26140658L-20260512T140000@LEINE-VHS LAATZEN GGMBH
SUMMARY:Englisch B1  English for Tea-Time (26140658L) 
LOCATION:Laatzen, Leine-VHS, Senefelderstr. 17/19, Unterricht 0.12, Senefelderstr. 17/19, 30880 Laatzen
END:VEVENT
BEGIN:VEVENT
DTSTAMP:20260424T124637
DTSTART;TZID=Europe/Berlin:20260602T140000
DTEND;TZID=Europe/Berlin:20260602T153000
UID:26140658L-20260602T140000@LEINE-VHS LAATZEN GGMBH
SUMMARY:Englisch B1  English for Tea-Time (26140658L) 
LOCATION:Laatzen, Leine-VHS, Senefelderstr. 17/19, Unterricht 0.12, Senefelderstr. 17/19, 30880 Laatzen
END:VEVENT
END:VCALENDAR