BEGIN:VCALENDAR
PRODID:http://www.kufer.de/kuferweb / DE
VERSION:2.0
METHOD:PUBLISH
CALSCALE:GREGORIAN
X-WR-TIMEZONE:Europe/Berlin
BEGIN:VTIMEZONE
TZID:Europe/Berlin
X-LIC-LOCATION:Europe/Berlin
BEGIN:DAYLIGHT
TZOFFSETFROM:+0100
TZOFFSETTO:+0200
TZNAME:CEST
DTSTART;TZID=Europe/Berlin:19700329T020000
RRULE:FREQ=YEARLY;INTERVAL=1;BYDAY=-1SU;BYMONTH=3
END:DAYLIGHT
BEGIN:STANDARD
TZOFFSETFROM:+0200
TZOFFSETTO:+0100
TZNAME:CET
DTSTART;TZID=Europe/Berlin:19701025T030000
RRULE:FREQ=YEARLY;INTERVAL=1;BYDAY=-1SU;BYMONTH=10
END:STANDARD
END:VTIMEZONE
BEGIN:VEVENT
DTSTAMP:20260424T112607
DTSTART;TZID=Europe/Berlin:20260409T173000
DTEND;TZID=Europe/Berlin:20260409T190000
UID:26140803L-20260409T173000@LEINE-VHS LAATZEN GGMBH
SUMMARY:Französisch A1 für die Reise und Alltag Für Anfänger*innen mit sehr geringen Vorkenntnissen (26140803L) 
LOCATION:Laatzen, Leine-VHS, Senefelderstr. 17/19, Unterricht 1.05, Senefelderstraße 17/19, 30880 Laatzen
END:VEVENT
BEGIN:VEVENT
DTSTAMP:20260424T112607
DTSTART;TZID=Europe/Berlin:20260416T173000
DTEND;TZID=Europe/Berlin:20260416T190000
UID:26140803L-20260416T173000@LEINE-VHS LAATZEN GGMBH
SUMMARY:Französisch A1 für die Reise und Alltag Für Anfänger*innen mit sehr geringen Vorkenntnissen (26140803L) 
LOCATION:Laatzen, Leine-VHS, Senefelderstr. 17/19, Unterricht 1.05, Senefelderstraße 17/19, 30880 Laatzen
END:VEVENT
BEGIN:VEVENT
DTSTAMP:20260424T112607
DTSTART;TZID=Europe/Berlin:20260423T173000
DTEND;TZID=Europe/Berlin:20260423T190000
UID:26140803L-20260423T173000@LEINE-VHS LAATZEN GGMBH
SUMMARY:Französisch A1 für die Reise und Alltag Für Anfänger*innen mit sehr geringen Vorkenntnissen (26140803L) 
LOCATION:Laatzen, Leine-VHS, Senefelderstr. 17/19, Unterricht 1.05, Senefelderstraße 17/19, 30880 Laatzen
END:VEVENT
BEGIN:VEVENT
DTSTAMP:20260424T112607
DTSTART;TZID=Europe/Berlin:20260430T173000
DTEND;TZID=Europe/Berlin:20260430T190000
UID:26140803L-20260430T173000@LEINE-VHS LAATZEN GGMBH
SUMMARY:Französisch A1 für die Reise und Alltag Für Anfänger*innen mit sehr geringen Vorkenntnissen (26140803L) 
LOCATION:Laatzen, Leine-VHS, Senefelderstr. 17/19, Unterricht 1.05, Senefelderstraße 17/19, 30880 Laatzen
END:VEVENT
BEGIN:VEVENT
DTSTAMP:20260424T112607
DTSTART;TZID=Europe/Berlin:20260507T173000
DTEND;TZID=Europe/Berlin:20260507T190000
UID:26140803L-20260507T173000@LEINE-VHS LAATZEN GGMBH
SUMMARY:Französisch A1 für die Reise und Alltag Für Anfänger*innen mit sehr geringen Vorkenntnissen (26140803L) 
LOCATION:Laatzen, Leine-VHS, Senefelderstr. 17/19, Unterricht 1.05, Senefelderstraße 17/19, 30880 Laatzen
END:VEVENT
BEGIN:VEVENT
DTSTAMP:20260424T112607
DTSTART;TZID=Europe/Berlin:20260521T173000
DTEND;TZID=Europe/Berlin:20260521T190000
UID:26140803L-20260521T173000@LEINE-VHS LAATZEN GGMBH
SUMMARY:Französisch A1 für die Reise und Alltag Für Anfänger*innen mit sehr geringen Vorkenntnissen (26140803L) 
LOCATION:Laatzen, Leine-VHS, Senefelderstr. 17/19, Unterricht 1.05, Senefelderstraße 17/19, 30880 Laatzen
END:VEVENT
BEGIN:VEVENT
DTSTAMP:20260424T112607
DTSTART;TZID=Europe/Berlin:20260528T173000
DTEND;TZID=Europe/Berlin:20260528T190000
UID:26140803L-20260528T173000@LEINE-VHS LAATZEN GGMBH
SUMMARY:Französisch A1 für die Reise und Alltag Für Anfänger*innen mit sehr geringen Vorkenntnissen (26140803L) 
LOCATION:Laatzen, Leine-VHS, Senefelderstr. 17/19, Unterricht 1.05, Senefelderstraße 17/19, 30880 Laatzen
END:VEVENT
BEGIN:VEVENT
DTSTAMP:20260424T112607
DTSTART;TZID=Europe/Berlin:20260604T173000
DTEND;TZID=Europe/Berlin:20260604T190000
UID:26140803L-20260604T173000@LEINE-VHS LAATZEN GGMBH
SUMMARY:Französisch A1 für die Reise und Alltag Für Anfänger*innen mit sehr geringen Vorkenntnissen (26140803L) 
LOCATION:Laatzen, Leine-VHS, Senefelderstr. 17/19, Unterricht 1.05, Senefelderstraße 17/19, 30880 Laatzen
END:VEVENT
BEGIN:VEVENT
DTSTAMP:20260424T112607
DTSTART;TZID=Europe/Berlin:20260611T173000
DTEND;TZID=Europe/Berlin:20260611T190000
UID:26140803L-20260611T173000@LEINE-VHS LAATZEN GGMBH
SUMMARY:Französisch A1 für die Reise und Alltag Für Anfänger*innen mit sehr geringen Vorkenntnissen (26140803L) 
LOCATION:Laatzen, Leine-VHS, Senefelderstr. 17/19, Unterricht 1.05, Senefelderstraße 17/19, 30880 Laatzen
END:VEVENT
BEGIN:VEVENT
DTSTAMP:20260424T112607
DTSTART;TZID=Europe/Berlin:20260618T173000
DTEND;TZID=Europe/Berlin:20260618T190000
UID:26140803L-20260618T173000@LEINE-VHS LAATZEN GGMBH
SUMMARY:Französisch A1 für die Reise und Alltag Für Anfänger*innen mit sehr geringen Vorkenntnissen (26140803L) 
LOCATION:Laatzen, Leine-VHS, Senefelderstr. 17/19, Unterricht 1.05, Senefelderstraße 17/19, 30880 Laatzen
END:VEVENT
END:VCALENDAR