BEGIN:VCALENDAR
PRODID:http://www.kufer.de/kuferweb / DE
VERSION:2.0
METHOD:PUBLISH
CALSCALE:GREGORIAN
X-WR-TIMEZONE:Europe/Berlin
BEGIN:VTIMEZONE
TZID:Europe/Berlin
X-LIC-LOCATION:Europe/Berlin
BEGIN:DAYLIGHT
TZOFFSETFROM:+0100
TZOFFSETTO:+0200
TZNAME:CEST
DTSTART;TZID=Europe/Berlin:19700329T020000
RRULE:FREQ=YEARLY;INTERVAL=1;BYDAY=-1SU;BYMONTH=3
END:DAYLIGHT
BEGIN:STANDARD
TZOFFSETFROM:+0200
TZOFFSETTO:+0100
TZNAME:CET
DTSTART;TZID=Europe/Berlin:19701025T030000
RRULE:FREQ=YEARLY;INTERVAL=1;BYDAY=-1SU;BYMONTH=10
END:STANDARD
END:VTIMEZONE
BEGIN:VEVENT
DTSTAMP:20260424T180933
DTSTART;TZID=Europe/Berlin:20260218T160000
DTEND;TZID=Europe/Berlin:20260218T173000
UID:26140821H-20260218T160000@LEINE-VHS LAATZEN GGMBH
SUMMARY:Französisch B1, Stufe I Zur Kaffeezeit (26140821H) 
LOCATION:Hemmingen-Westerfeld, VHS-Geschäftsstelle, Gutenbergstraße 2, U4, Gutenbergstraße 2, 30966 Hemmingen
END:VEVENT
BEGIN:VEVENT
DTSTAMP:20260424T180933
DTSTART;TZID=Europe/Berlin:20260225T160000
DTEND;TZID=Europe/Berlin:20260225T173000
UID:26140821H-20260225T160000@LEINE-VHS LAATZEN GGMBH
SUMMARY:Französisch B1, Stufe I Zur Kaffeezeit (26140821H) 
LOCATION:Hemmingen-Westerfeld, VHS-Geschäftsstelle, Gutenbergstraße 2, U4, Gutenbergstraße 2, 30966 Hemmingen
END:VEVENT
BEGIN:VEVENT
DTSTAMP:20260424T180933
DTSTART;TZID=Europe/Berlin:20260311T160000
DTEND;TZID=Europe/Berlin:20260311T173000
UID:26140821H-20260311T160000@LEINE-VHS LAATZEN GGMBH
SUMMARY:Französisch B1, Stufe I Zur Kaffeezeit (26140821H) 
LOCATION:Hemmingen-Westerfeld, VHS-Geschäftsstelle, Gutenbergstraße 2, U4, Gutenbergstraße 2, 30966 Hemmingen
END:VEVENT
BEGIN:VEVENT
DTSTAMP:20260424T180933
DTSTART;TZID=Europe/Berlin:20260318T160000
DTEND;TZID=Europe/Berlin:20260318T173000
UID:26140821H-20260318T160000@LEINE-VHS LAATZEN GGMBH
SUMMARY:Französisch B1, Stufe I Zur Kaffeezeit (26140821H) 
LOCATION:Hemmingen-Westerfeld, VHS-Geschäftsstelle, Gutenbergstraße 2, U4, Gutenbergstraße 2, 30966 Hemmingen
END:VEVENT
BEGIN:VEVENT
DTSTAMP:20260424T180933
DTSTART;TZID=Europe/Berlin:20260408T160000
DTEND;TZID=Europe/Berlin:20260408T173000
UID:26140821H-20260408T160000@LEINE-VHS LAATZEN GGMBH
SUMMARY:Französisch B1, Stufe I Zur Kaffeezeit (26140821H) 
LOCATION:Hemmingen-Westerfeld, VHS-Geschäftsstelle, Gutenbergstraße 2, U4, Gutenbergstraße 2, 30966 Hemmingen
END:VEVENT
BEGIN:VEVENT
DTSTAMP:20260424T180933
DTSTART;TZID=Europe/Berlin:20260415T160000
DTEND;TZID=Europe/Berlin:20260415T173000
UID:26140821H-20260415T160000@LEINE-VHS LAATZEN GGMBH
SUMMARY:Französisch B1, Stufe I Zur Kaffeezeit (26140821H) 
LOCATION:Hemmingen-Westerfeld, VHS-Geschäftsstelle, Gutenbergstraße 2, U4, Gutenbergstraße 2, 30966 Hemmingen
END:VEVENT
BEGIN:VEVENT
DTSTAMP:20260424T180933
DTSTART;TZID=Europe/Berlin:20260422T160000
DTEND;TZID=Europe/Berlin:20260422T173000
UID:26140821H-20260422T160000@LEINE-VHS LAATZEN GGMBH
SUMMARY:Französisch B1, Stufe I Zur Kaffeezeit (26140821H) 
LOCATION:Hemmingen-Westerfeld, VHS-Geschäftsstelle, Gutenbergstraße 2, U4, Gutenbergstraße 2, 30966 Hemmingen
END:VEVENT
BEGIN:VEVENT
DTSTAMP:20260424T180933
DTSTART;TZID=Europe/Berlin:20260429T160000
DTEND;TZID=Europe/Berlin:20260429T173000
UID:26140821H-20260429T160000@LEINE-VHS LAATZEN GGMBH
SUMMARY:Französisch B1, Stufe I Zur Kaffeezeit (26140821H) 
LOCATION:Hemmingen-Westerfeld, VHS-Geschäftsstelle, Gutenbergstraße 2, U4, Gutenbergstraße 2, 30966 Hemmingen
END:VEVENT
BEGIN:VEVENT
DTSTAMP:20260424T180933
DTSTART;TZID=Europe/Berlin:20260506T160000
DTEND;TZID=Europe/Berlin:20260506T173000
UID:26140821H-20260506T160000@LEINE-VHS LAATZEN GGMBH
SUMMARY:Französisch B1, Stufe I Zur Kaffeezeit (26140821H) 
LOCATION:Hemmingen-Westerfeld, VHS-Geschäftsstelle, Gutenbergstraße 2, U4, Gutenbergstraße 2, 30966 Hemmingen
END:VEVENT
BEGIN:VEVENT
DTSTAMP:20260424T180933
DTSTART;TZID=Europe/Berlin:20260513T160000
DTEND;TZID=Europe/Berlin:20260513T173000
UID:26140821H-20260513T160000@LEINE-VHS LAATZEN GGMBH
SUMMARY:Französisch B1, Stufe I Zur Kaffeezeit (26140821H) 
LOCATION:Hemmingen-Westerfeld, VHS-Geschäftsstelle, Gutenbergstraße 2, U4, Gutenbergstraße 2, 30966 Hemmingen
END:VEVENT
BEGIN:VEVENT
DTSTAMP:20260424T180933
DTSTART;TZID=Europe/Berlin:20260520T160000
DTEND;TZID=Europe/Berlin:20260520T173000
UID:26140821H-20260520T160000@LEINE-VHS LAATZEN GGMBH
SUMMARY:Französisch B1, Stufe I Zur Kaffeezeit (26140821H) 
LOCATION:Hemmingen-Westerfeld, VHS-Geschäftsstelle, Gutenbergstraße 2, U4, Gutenbergstraße 2, 30966 Hemmingen
END:VEVENT
BEGIN:VEVENT
DTSTAMP:20260424T180933
DTSTART;TZID=Europe/Berlin:20260527T160000
DTEND;TZID=Europe/Berlin:20260527T173000
UID:26140821H-20260527T160000@LEINE-VHS LAATZEN GGMBH
SUMMARY:Französisch B1, Stufe I Zur Kaffeezeit (26140821H) 
LOCATION:Hemmingen-Westerfeld, VHS-Geschäftsstelle, Gutenbergstraße 2, U4, Gutenbergstraße 2, 30966 Hemmingen
END:VEVENT
END:VCALENDAR