BEGIN:VCALENDAR
PRODID:http://www.kufer.de/kuferweb / DE
VERSION:2.0
METHOD:PUBLISH
CALSCALE:GREGORIAN
X-WR-TIMEZONE:Europe/Berlin
BEGIN:VTIMEZONE
TZID:Europe/Berlin
X-LIC-LOCATION:Europe/Berlin
BEGIN:DAYLIGHT
TZOFFSETFROM:+0100
TZOFFSETTO:+0200
TZNAME:CEST
DTSTART;TZID=Europe/Berlin:19700329T020000
RRULE:FREQ=YEARLY;INTERVAL=1;BYDAY=-1SU;BYMONTH=3
END:DAYLIGHT
BEGIN:STANDARD
TZOFFSETFROM:+0200
TZOFFSETTO:+0100
TZNAME:CET
DTSTART;TZID=Europe/Berlin:19701025T030000
RRULE:FREQ=YEARLY;INTERVAL=1;BYDAY=-1SU;BYMONTH=10
END:STANDARD
END:VTIMEZONE
BEGIN:VEVENT
DTSTAMP:20260424T180905
DTSTART;TZID=Europe/Berlin:20260212T101500
DTEND;TZID=Europe/Berlin:20260212T124500
UID:26140831H-20260212T101500@LEINE-VHS LAATZEN GGMBH
SUMMARY:Französisch B1/B2  Conversation et littérature (26140831H) 
LOCATION:Hemmingen-Westerfeld, VHS-Geschäftsstelle, Gutenbergstraße 2, U5, Gutenbergstraße 2, 30966 Hemmingen
END:VEVENT
BEGIN:VEVENT
DTSTAMP:20260424T180905
DTSTART;TZID=Europe/Berlin:20260226T101500
DTEND;TZID=Europe/Berlin:20260226T124500
UID:26140831H-20260226T101500@LEINE-VHS LAATZEN GGMBH
SUMMARY:Französisch B1/B2  Conversation et littérature (26140831H) 
LOCATION:Hemmingen-Westerfeld, VHS-Geschäftsstelle, Gutenbergstraße 2, U5, Gutenbergstraße 2, 30966 Hemmingen
END:VEVENT
BEGIN:VEVENT
DTSTAMP:20260424T180905
DTSTART;TZID=Europe/Berlin:20260312T101500
DTEND;TZID=Europe/Berlin:20260312T124500
UID:26140831H-20260312T101500@LEINE-VHS LAATZEN GGMBH
SUMMARY:Französisch B1/B2  Conversation et littérature (26140831H) 
LOCATION:Hemmingen-Westerfeld, VHS-Geschäftsstelle, Gutenbergstraße 2, U5, Gutenbergstraße 2, 30966 Hemmingen
END:VEVENT
BEGIN:VEVENT
DTSTAMP:20260424T180905
DTSTART;TZID=Europe/Berlin:20260409T101500
DTEND;TZID=Europe/Berlin:20260409T124500
UID:26140831H-20260409T101500@LEINE-VHS LAATZEN GGMBH
SUMMARY:Französisch B1/B2  Conversation et littérature (26140831H) 
LOCATION:Hemmingen-Westerfeld, VHS-Geschäftsstelle, Gutenbergstraße 2, U5, Gutenbergstraße 2, 30966 Hemmingen
END:VEVENT
BEGIN:VEVENT
DTSTAMP:20260424T180905
DTSTART;TZID=Europe/Berlin:20260507T101500
DTEND;TZID=Europe/Berlin:20260507T124500
UID:26140831H-20260507T101500@LEINE-VHS LAATZEN GGMBH
SUMMARY:Französisch B1/B2  Conversation et littérature (26140831H) 
LOCATION:Hemmingen-Westerfeld, VHS-Geschäftsstelle, Gutenbergstraße 2, U5, Gutenbergstraße 2, 30966 Hemmingen
END:VEVENT
BEGIN:VEVENT
DTSTAMP:20260424T180905
DTSTART;TZID=Europe/Berlin:20260521T101500
DTEND;TZID=Europe/Berlin:20260521T124500
UID:26140831H-20260521T101500@LEINE-VHS LAATZEN GGMBH
SUMMARY:Französisch B1/B2  Conversation et littérature (26140831H) 
LOCATION:Hemmingen-Westerfeld, VHS-Geschäftsstelle, Gutenbergstraße 2, U5, Gutenbergstraße 2, 30966 Hemmingen
END:VEVENT
BEGIN:VEVENT
DTSTAMP:20260424T180905
DTSTART;TZID=Europe/Berlin:20260611T101500
DTEND;TZID=Europe/Berlin:20260611T124500
UID:26140831H-20260611T101500@LEINE-VHS LAATZEN GGMBH
SUMMARY:Französisch B1/B2  Conversation et littérature (26140831H) 
LOCATION:Hemmingen-Westerfeld, VHS-Geschäftsstelle, Gutenbergstraße 2, U5, Gutenbergstraße 2, 30966 Hemmingen
END:VEVENT
END:VCALENDAR