BEGIN:VCALENDAR
PRODID:http://www.kufer.de/kuferweb / DE
VERSION:2.0
METHOD:PUBLISH
CALSCALE:GREGORIAN
X-WR-TIMEZONE:Europe/Berlin
BEGIN:VTIMEZONE
TZID:Europe/Berlin
X-LIC-LOCATION:Europe/Berlin
BEGIN:DAYLIGHT
TZOFFSETFROM:+0100
TZOFFSETTO:+0200
TZNAME:CEST
DTSTART;TZID=Europe/Berlin:19700329T020000
RRULE:FREQ=YEARLY;INTERVAL=1;BYDAY=-1SU;BYMONTH=3
END:DAYLIGHT
BEGIN:STANDARD
TZOFFSETFROM:+0200
TZOFFSETTO:+0100
TZNAME:CET
DTSTART;TZID=Europe/Berlin:19701025T030000
RRULE:FREQ=YEARLY;INTERVAL=1;BYDAY=-1SU;BYMONTH=10
END:STANDARD
END:VTIMEZONE
BEGIN:VEVENT
DTSTAMP:20260424T095437
DTSTART;TZID=Europe/Berlin:20260226T163000
DTEND;TZID=Europe/Berlin:20260226T180000
UID:26141702H-20260226T163000@LEINE-VHS LAATZEN GGMBH
SUMMARY:Polnisch A1  Für Anfänger*innen mit sehr geringen Vorkenntnissen (26141702H) 
LOCATION:Hemmingen-Westerfeld, VHS-Geschäftsstelle, Gutenbergstraße 2, U6, Gutenbergstraße 2, 30966 Hemmingen
END:VEVENT
BEGIN:VEVENT
DTSTAMP:20260424T095437
DTSTART;TZID=Europe/Berlin:20260305T163000
DTEND;TZID=Europe/Berlin:20260305T180000
UID:26141702H-20260305T163000@LEINE-VHS LAATZEN GGMBH
SUMMARY:Polnisch A1  Für Anfänger*innen mit sehr geringen Vorkenntnissen (26141702H) 
LOCATION:Hemmingen-Westerfeld, VHS-Geschäftsstelle, Gutenbergstraße 2, U6, Gutenbergstraße 2, 30966 Hemmingen
END:VEVENT
BEGIN:VEVENT
DTSTAMP:20260424T095437
DTSTART;TZID=Europe/Berlin:20260312T163000
DTEND;TZID=Europe/Berlin:20260312T180000
UID:26141702H-20260312T163000@LEINE-VHS LAATZEN GGMBH
SUMMARY:Polnisch A1  Für Anfänger*innen mit sehr geringen Vorkenntnissen (26141702H) 
LOCATION:Hemmingen-Westerfeld, VHS-Geschäftsstelle, Gutenbergstraße 2, U6, Gutenbergstraße 2, 30966 Hemmingen
END:VEVENT
BEGIN:VEVENT
DTSTAMP:20260424T095437
DTSTART;TZID=Europe/Berlin:20260319T163000
DTEND;TZID=Europe/Berlin:20260319T180000
UID:26141702H-20260319T163000@LEINE-VHS LAATZEN GGMBH
SUMMARY:Polnisch A1  Für Anfänger*innen mit sehr geringen Vorkenntnissen (26141702H) 
LOCATION:Hemmingen-Westerfeld, VHS-Geschäftsstelle, Gutenbergstraße 2, U6, Gutenbergstraße 2, 30966 Hemmingen
END:VEVENT
BEGIN:VEVENT
DTSTAMP:20260424T095437
DTSTART;TZID=Europe/Berlin:20260409T163000
DTEND;TZID=Europe/Berlin:20260409T180000
UID:26141702H-20260409T163000@LEINE-VHS LAATZEN GGMBH
SUMMARY:Polnisch A1  Für Anfänger*innen mit sehr geringen Vorkenntnissen (26141702H) 
LOCATION:Hemmingen-Westerfeld, VHS-Geschäftsstelle, Gutenbergstraße 2, U6, Gutenbergstraße 2, 30966 Hemmingen
END:VEVENT
BEGIN:VEVENT
DTSTAMP:20260424T095437
DTSTART;TZID=Europe/Berlin:20260416T163000
DTEND;TZID=Europe/Berlin:20260416T180000
UID:26141702H-20260416T163000@LEINE-VHS LAATZEN GGMBH
SUMMARY:Polnisch A1  Für Anfänger*innen mit sehr geringen Vorkenntnissen (26141702H) 
LOCATION:Hemmingen-Westerfeld, VHS-Geschäftsstelle, Gutenbergstraße 2, U6, Gutenbergstraße 2, 30966 Hemmingen
END:VEVENT
BEGIN:VEVENT
DTSTAMP:20260424T095437
DTSTART;TZID=Europe/Berlin:20260423T163000
DTEND;TZID=Europe/Berlin:20260423T180000
UID:26141702H-20260423T163000@LEINE-VHS LAATZEN GGMBH
SUMMARY:Polnisch A1  Für Anfänger*innen mit sehr geringen Vorkenntnissen (26141702H) 
LOCATION:Hemmingen-Westerfeld, VHS-Geschäftsstelle, Gutenbergstraße 2, U6, Gutenbergstraße 2, 30966 Hemmingen
END:VEVENT
BEGIN:VEVENT
DTSTAMP:20260424T095437
DTSTART;TZID=Europe/Berlin:20260430T163000
DTEND;TZID=Europe/Berlin:20260430T180000
UID:26141702H-20260430T163000@LEINE-VHS LAATZEN GGMBH
SUMMARY:Polnisch A1  Für Anfänger*innen mit sehr geringen Vorkenntnissen (26141702H) 
LOCATION:Hemmingen-Westerfeld, VHS-Geschäftsstelle, Gutenbergstraße 2, U6, Gutenbergstraße 2, 30966 Hemmingen
END:VEVENT
BEGIN:VEVENT
DTSTAMP:20260424T095437
DTSTART;TZID=Europe/Berlin:20260507T163000
DTEND;TZID=Europe/Berlin:20260507T180000
UID:26141702H-20260507T163000@LEINE-VHS LAATZEN GGMBH
SUMMARY:Polnisch A1  Für Anfänger*innen mit sehr geringen Vorkenntnissen (26141702H) 
LOCATION:Hemmingen-Westerfeld, VHS-Geschäftsstelle, Gutenbergstraße 2, U6, Gutenbergstraße 2, 30966 Hemmingen
END:VEVENT
BEGIN:VEVENT
DTSTAMP:20260424T095437
DTSTART;TZID=Europe/Berlin:20260521T163000
DTEND;TZID=Europe/Berlin:20260521T180000
UID:26141702H-20260521T163000@LEINE-VHS LAATZEN GGMBH
SUMMARY:Polnisch A1  Für Anfänger*innen mit sehr geringen Vorkenntnissen (26141702H) 
LOCATION:Hemmingen-Westerfeld, VHS-Geschäftsstelle, Gutenbergstraße 2, U6, Gutenbergstraße 2, 30966 Hemmingen
END:VEVENT
END:VCALENDAR