BEGIN:VCALENDAR
PRODID:http://www.kufer.de/kuferweb / DE
VERSION:2.0
METHOD:PUBLISH
CALSCALE:GREGORIAN
X-WR-TIMEZONE:Europe/Berlin
BEGIN:VTIMEZONE
TZID:Europe/Berlin
X-LIC-LOCATION:Europe/Berlin
BEGIN:DAYLIGHT
TZOFFSETFROM:+0100
TZOFFSETTO:+0200
TZNAME:CEST
DTSTART;TZID=Europe/Berlin:19700329T020000
RRULE:FREQ=YEARLY;INTERVAL=1;BYDAY=-1SU;BYMONTH=3
END:DAYLIGHT
BEGIN:STANDARD
TZOFFSETFROM:+0200
TZOFFSETTO:+0100
TZNAME:CET
DTSTART;TZID=Europe/Berlin:19701025T030000
RRULE:FREQ=YEARLY;INTERVAL=1;BYDAY=-1SU;BYMONTH=10
END:STANDARD
END:VTIMEZONE
BEGIN:VEVENT
DTSTAMP:20260424T112654
DTSTART;TZID=Europe/Berlin:20260218T170000
DTEND;TZID=Europe/Berlin:20260218T183000
UID:26142204L-20260218T170000@LEINE-VHS LAATZEN GGMBH
SUMMARY:Spanisch A1, Stufe I  Für Anfänger*innen mit sehr geringen Vorkenntnissen (26142204L) 
LOCATION:Laatzen, Leine-VHS, Senefelderstr. 17/19, Unterricht 0.12, Senefelderstr. 17/19, 30880 Laatzen
END:VEVENT
BEGIN:VEVENT
DTSTAMP:20260424T112654
DTSTART;TZID=Europe/Berlin:20260225T170000
DTEND;TZID=Europe/Berlin:20260225T183000
UID:26142204L-20260225T170000@LEINE-VHS LAATZEN GGMBH
SUMMARY:Spanisch A1, Stufe I  Für Anfänger*innen mit sehr geringen Vorkenntnissen (26142204L) 
LOCATION:Laatzen, Leine-VHS, Senefelderstr. 17/19, Unterricht 0.12, Senefelderstr. 17/19, 30880 Laatzen
END:VEVENT
BEGIN:VEVENT
DTSTAMP:20260424T112654
DTSTART;TZID=Europe/Berlin:20260304T170000
DTEND;TZID=Europe/Berlin:20260304T183000
UID:26142204L-20260304T170000@LEINE-VHS LAATZEN GGMBH
SUMMARY:Spanisch A1, Stufe I  Für Anfänger*innen mit sehr geringen Vorkenntnissen (26142204L) 
LOCATION:Laatzen, Leine-VHS, Senefelderstr. 17/19, Unterricht 0.12, Senefelderstr. 17/19, 30880 Laatzen
END:VEVENT
BEGIN:VEVENT
DTSTAMP:20260424T112654
DTSTART;TZID=Europe/Berlin:20260311T170000
DTEND;TZID=Europe/Berlin:20260311T183000
UID:26142204L-20260311T170000@LEINE-VHS LAATZEN GGMBH
SUMMARY:Spanisch A1, Stufe I  Für Anfänger*innen mit sehr geringen Vorkenntnissen (26142204L) 
LOCATION:Laatzen, Leine-VHS, Senefelderstr. 17/19, Unterricht 0.12, Senefelderstr. 17/19, 30880 Laatzen
END:VEVENT
BEGIN:VEVENT
DTSTAMP:20260424T112654
DTSTART;TZID=Europe/Berlin:20260318T170000
DTEND;TZID=Europe/Berlin:20260318T183000
UID:26142204L-20260318T170000@LEINE-VHS LAATZEN GGMBH
SUMMARY:Spanisch A1, Stufe I  Für Anfänger*innen mit sehr geringen Vorkenntnissen (26142204L) 
LOCATION:Laatzen, Leine-VHS, Senefelderstr. 17/19, Unterricht 0.12, Senefelderstr. 17/19, 30880 Laatzen
END:VEVENT
BEGIN:VEVENT
DTSTAMP:20260424T112654
DTSTART;TZID=Europe/Berlin:20260415T170000
DTEND;TZID=Europe/Berlin:20260415T183000
UID:26142204L-20260415T170000@LEINE-VHS LAATZEN GGMBH
SUMMARY:Spanisch A1, Stufe I  Für Anfänger*innen mit sehr geringen Vorkenntnissen (26142204L) 
LOCATION:Laatzen, Leine-VHS, Senefelderstr. 17/19, Unterricht 0.12, Senefelderstr. 17/19, 30880 Laatzen
END:VEVENT
BEGIN:VEVENT
DTSTAMP:20260424T112654
DTSTART;TZID=Europe/Berlin:20260422T170000
DTEND;TZID=Europe/Berlin:20260422T183000
UID:26142204L-20260422T170000@LEINE-VHS LAATZEN GGMBH
SUMMARY:Spanisch A1, Stufe I  Für Anfänger*innen mit sehr geringen Vorkenntnissen (26142204L) 
LOCATION:Laatzen, Leine-VHS, Senefelderstr. 17/19, Unterricht 0.12, Senefelderstr. 17/19, 30880 Laatzen
END:VEVENT
BEGIN:VEVENT
DTSTAMP:20260424T112654
DTSTART;TZID=Europe/Berlin:20260429T170000
DTEND;TZID=Europe/Berlin:20260429T183000
UID:26142204L-20260429T170000@LEINE-VHS LAATZEN GGMBH
SUMMARY:Spanisch A1, Stufe I  Für Anfänger*innen mit sehr geringen Vorkenntnissen (26142204L) 
LOCATION:Laatzen, Leine-VHS, Senefelderstr. 17/19, Unterricht 0.12, Senefelderstr. 17/19, 30880 Laatzen
END:VEVENT
BEGIN:VEVENT
DTSTAMP:20260424T112654
DTSTART;TZID=Europe/Berlin:20260506T170000
DTEND;TZID=Europe/Berlin:20260506T183000
UID:26142204L-20260506T170000@LEINE-VHS LAATZEN GGMBH
SUMMARY:Spanisch A1, Stufe I  Für Anfänger*innen mit sehr geringen Vorkenntnissen (26142204L) 
LOCATION:Laatzen, Leine-VHS, Senefelderstr. 17/19, Unterricht 0.12, Senefelderstr. 17/19, 30880 Laatzen
END:VEVENT
BEGIN:VEVENT
DTSTAMP:20260424T112654
DTSTART;TZID=Europe/Berlin:20260513T170000
DTEND;TZID=Europe/Berlin:20260513T183000
UID:26142204L-20260513T170000@LEINE-VHS LAATZEN GGMBH
SUMMARY:Spanisch A1, Stufe I  Für Anfänger*innen mit sehr geringen Vorkenntnissen (26142204L) 
LOCATION:Laatzen, Leine-VHS, Senefelderstr. 17/19, Unterricht 0.12, Senefelderstr. 17/19, 30880 Laatzen
END:VEVENT
BEGIN:VEVENT
DTSTAMP:20260424T112654
DTSTART;TZID=Europe/Berlin:20260520T170000
DTEND;TZID=Europe/Berlin:20260520T183000
UID:26142204L-20260520T170000@LEINE-VHS LAATZEN GGMBH
SUMMARY:Spanisch A1, Stufe I  Für Anfänger*innen mit sehr geringen Vorkenntnissen (26142204L) 
LOCATION:Laatzen, Leine-VHS, Senefelderstr. 17/19, Unterricht 0.12, Senefelderstr. 17/19, 30880 Laatzen
END:VEVENT
BEGIN:VEVENT
DTSTAMP:20260424T112654
DTSTART;TZID=Europe/Berlin:20260527T170000
DTEND;TZID=Europe/Berlin:20260527T183000
UID:26142204L-20260527T170000@LEINE-VHS LAATZEN GGMBH
SUMMARY:Spanisch A1, Stufe I  Für Anfänger*innen mit sehr geringen Vorkenntnissen (26142204L) 
LOCATION:Laatzen, Leine-VHS, Senefelderstr. 17/19, Unterricht 0.12, Senefelderstr. 17/19, 30880 Laatzen
END:VEVENT
END:VCALENDAR