BEGIN:VCALENDAR
PRODID:http://www.kufer.de/kuferweb / DE
VERSION:2.0
METHOD:PUBLISH
CALSCALE:GREGORIAN
X-WR-TIMEZONE:Europe/Berlin
BEGIN:VTIMEZONE
TZID:Europe/Berlin
X-LIC-LOCATION:Europe/Berlin
BEGIN:DAYLIGHT
TZOFFSETFROM:+0100
TZOFFSETTO:+0200
TZNAME:CEST
DTSTART;TZID=Europe/Berlin:19700329T020000
RRULE:FREQ=YEARLY;INTERVAL=1;BYDAY=-1SU;BYMONTH=3
END:DAYLIGHT
BEGIN:STANDARD
TZOFFSETFROM:+0200
TZOFFSETTO:+0100
TZNAME:CET
DTSTART;TZID=Europe/Berlin:19701025T030000
RRULE:FREQ=YEARLY;INTERVAL=1;BYDAY=-1SU;BYMONTH=10
END:STANDARD
END:VTIMEZONE
BEGIN:VEVENT
DTSTAMP:20260424T130246
DTSTART;TZID=Europe/Berlin:20260622T093000
DTEND;TZID=Europe/Berlin:20260622T130000
UID:26142215B-20260622T093000@LEINE-VHS LAATZEN GGMBH
SUMMARY:Spanisch A1 Auffrischung INTENSIVWOCHE  (auch als Bildungsurlaub anerkannt) (26142215B) 
LOCATION:Hemmingen-Westerfeld, VHS-Geschäftsstelle, Gutenbergstraße 2, U1, Gutenbergstraße 2, 30966 Hemmingen
END:VEVENT
BEGIN:VEVENT
DTSTAMP:20260424T130246
DTSTART;TZID=Europe/Berlin:20260623T093000
DTEND;TZID=Europe/Berlin:20260623T130000
UID:26142215B-20260623T093000@LEINE-VHS LAATZEN GGMBH
SUMMARY:Spanisch A1 Auffrischung INTENSIVWOCHE  (auch als Bildungsurlaub anerkannt) (26142215B) 
LOCATION:Hemmingen-Westerfeld, VHS-Geschäftsstelle, Gutenbergstraße 2, U1, Gutenbergstraße 2, 30966 Hemmingen
END:VEVENT
BEGIN:VEVENT
DTSTAMP:20260424T130246
DTSTART;TZID=Europe/Berlin:20260624T093000
DTEND;TZID=Europe/Berlin:20260624T130000
UID:26142215B-20260624T093000@LEINE-VHS LAATZEN GGMBH
SUMMARY:Spanisch A1 Auffrischung INTENSIVWOCHE  (auch als Bildungsurlaub anerkannt) (26142215B) 
LOCATION:Hemmingen-Westerfeld, VHS-Geschäftsstelle, Gutenbergstraße 2, U1, Gutenbergstraße 2, 30966 Hemmingen
END:VEVENT
BEGIN:VEVENT
DTSTAMP:20260424T130246
DTSTART;TZID=Europe/Berlin:20260625T093000
DTEND;TZID=Europe/Berlin:20260625T130000
UID:26142215B-20260625T093000@LEINE-VHS LAATZEN GGMBH
SUMMARY:Spanisch A1 Auffrischung INTENSIVWOCHE  (auch als Bildungsurlaub anerkannt) (26142215B) 
LOCATION:Hemmingen-Westerfeld, VHS-Geschäftsstelle, Gutenbergstraße 2, U1, Gutenbergstraße 2, 30966 Hemmingen
END:VEVENT
BEGIN:VEVENT
DTSTAMP:20260424T130246
DTSTART;TZID=Europe/Berlin:20260626T093000
DTEND;TZID=Europe/Berlin:20260626T130000
UID:26142215B-20260626T093000@LEINE-VHS LAATZEN GGMBH
SUMMARY:Spanisch A1 Auffrischung INTENSIVWOCHE  (auch als Bildungsurlaub anerkannt) (26142215B) 
LOCATION:Hemmingen-Westerfeld, VHS-Geschäftsstelle, Gutenbergstraße 2, U1, Gutenbergstraße 2, 30966 Hemmingen
END:VEVENT
END:VCALENDAR