BEGIN:VCALENDAR
PRODID:http://www.kufer.de/kuferweb / DE
VERSION:2.0
METHOD:PUBLISH
CALSCALE:GREGORIAN
X-WR-TIMEZONE:Europe/Berlin
BEGIN:VTIMEZONE
TZID:Europe/Berlin
X-LIC-LOCATION:Europe/Berlin
BEGIN:DAYLIGHT
TZOFFSETFROM:+0100
TZOFFSETTO:+0200
TZNAME:CEST
DTSTART;TZID=Europe/Berlin:19700329T020000
RRULE:FREQ=YEARLY;INTERVAL=1;BYDAY=-1SU;BYMONTH=3
END:DAYLIGHT
BEGIN:STANDARD
TZOFFSETFROM:+0200
TZOFFSETTO:+0100
TZNAME:CET
DTSTART;TZID=Europe/Berlin:19701025T030000
RRULE:FREQ=YEARLY;INTERVAL=1;BYDAY=-1SU;BYMONTH=10
END:STANDARD
END:VTIMEZONE
BEGIN:VEVENT
DTSTAMP:20260424T143640
DTSTART;TZID=Europe/Berlin:20260520T110000
DTEND;TZID=Europe/Berlin:20260520T123000
UID:26150302L-20260520T110000@LEINE-VHS LAATZEN GGMBH
SUMMARY:Einstieg in die Digitale Welt für Senior*innen (26150302L) 
LOCATION:Laatzen, Leine-VHS, Senefelderstr. 17/19, Kreativraum 2.21, Senefelderstraße 17/19, 30880 Laatzen
END:VEVENT
BEGIN:VEVENT
DTSTAMP:20260424T143640
DTSTART;TZID=Europe/Berlin:20260527T110000
DTEND;TZID=Europe/Berlin:20260527T123000
UID:26150302L-20260527T110000@LEINE-VHS LAATZEN GGMBH
SUMMARY:Einstieg in die Digitale Welt für Senior*innen (26150302L) 
LOCATION:Laatzen, Leine-VHS, Senefelderstr. 17/19, Kreativraum 2.21, Senefelderstraße 17/19, 30880 Laatzen
END:VEVENT
BEGIN:VEVENT
DTSTAMP:20260424T143640
DTSTART;TZID=Europe/Berlin:20260603T110000
DTEND;TZID=Europe/Berlin:20260603T123000
UID:26150302L-20260603T110000@LEINE-VHS LAATZEN GGMBH
SUMMARY:Einstieg in die Digitale Welt für Senior*innen (26150302L) 
LOCATION:Laatzen, Leine-VHS, Senefelderstr. 17/19, Kreativraum 2.21, Senefelderstraße 17/19, 30880 Laatzen
END:VEVENT
BEGIN:VEVENT
DTSTAMP:20260424T143640
DTSTART;TZID=Europe/Berlin:20260610T110000
DTEND;TZID=Europe/Berlin:20260610T123000
UID:26150302L-20260610T110000@LEINE-VHS LAATZEN GGMBH
SUMMARY:Einstieg in die Digitale Welt für Senior*innen (26150302L) 
LOCATION:Laatzen, Leine-VHS, Senefelderstr. 17/19, Kreativraum 2.21, Senefelderstraße 17/19, 30880 Laatzen
END:VEVENT
BEGIN:VEVENT
DTSTAMP:20260424T143640
DTSTART;TZID=Europe/Berlin:20260617T110000
DTEND;TZID=Europe/Berlin:20260617T123000
UID:26150302L-20260617T110000@LEINE-VHS LAATZEN GGMBH
SUMMARY:Einstieg in die Digitale Welt für Senior*innen (26150302L) 
LOCATION:Laatzen, Leine-VHS, Senefelderstr. 17/19, Kreativraum 2.21, Senefelderstraße 17/19, 30880 Laatzen
END:VEVENT
END:VCALENDAR