BEGIN:VCALENDAR
PRODID:http://www.kufer.de/kuferweb / DE
VERSION:2.0
METHOD:PUBLISH
CALSCALE:GREGORIAN
X-WR-TIMEZONE:Europe/Berlin
BEGIN:VTIMEZONE
TZID:Europe/Berlin
X-LIC-LOCATION:Europe/Berlin
BEGIN:DAYLIGHT
TZOFFSETFROM:+0100
TZOFFSETTO:+0200
TZNAME:CEST
DTSTART;TZID=Europe/Berlin:19700329T020000
RRULE:FREQ=YEARLY;INTERVAL=1;BYDAY=-1SU;BYMONTH=3
END:DAYLIGHT
BEGIN:STANDARD
TZOFFSETFROM:+0200
TZOFFSETTO:+0100
TZNAME:CET
DTSTART;TZID=Europe/Berlin:19701025T030000
RRULE:FREQ=YEARLY;INTERVAL=1;BYDAY=-1SU;BYMONTH=10
END:STANDARD
END:VTIMEZONE
BEGIN:VEVENT
DTSTAMP:20260424T095516
DTSTART;TZID=Europe/Berlin:20260523T133000
DTEND;TZID=Europe/Berlin:20260523T150000
UID:26150315D-20260523T133000@LEINE-VHS LAATZEN GGMBH
SUMMARY:Musikproduktion mit Ableton Live Songs produzieren, mischen und mastern - von der Idee bis zum Release (26150315D) 
LOCATION:Online-Kurs, vhs.cloud, , 
END:VEVENT
BEGIN:VEVENT
DTSTAMP:20260424T095516
DTSTART;TZID=Europe/Berlin:20260530T133000
DTEND;TZID=Europe/Berlin:20260530T150000
UID:26150315D-20260530T133000@LEINE-VHS LAATZEN GGMBH
SUMMARY:Musikproduktion mit Ableton Live Songs produzieren, mischen und mastern - von der Idee bis zum Release (26150315D) 
LOCATION:Online-Kurs, vhs.cloud, , 
END:VEVENT
BEGIN:VEVENT
DTSTAMP:20260424T095516
DTSTART;TZID=Europe/Berlin:20260606T133000
DTEND;TZID=Europe/Berlin:20260606T150000
UID:26150315D-20260606T133000@LEINE-VHS LAATZEN GGMBH
SUMMARY:Musikproduktion mit Ableton Live Songs produzieren, mischen und mastern - von der Idee bis zum Release (26150315D) 
LOCATION:Online-Kurs, vhs.cloud, , 
END:VEVENT
BEGIN:VEVENT
DTSTAMP:20260424T095516
DTSTART;TZID=Europe/Berlin:20260613T133000
DTEND;TZID=Europe/Berlin:20260613T150000
UID:26150315D-20260613T133000@LEINE-VHS LAATZEN GGMBH
SUMMARY:Musikproduktion mit Ableton Live Songs produzieren, mischen und mastern - von der Idee bis zum Release (26150315D) 
LOCATION:Online-Kurs, vhs.cloud, , 
END:VEVENT
BEGIN:VEVENT
DTSTAMP:20260424T095516
DTSTART;TZID=Europe/Berlin:20260620T133000
DTEND;TZID=Europe/Berlin:20260620T150000
UID:26150315D-20260620T133000@LEINE-VHS LAATZEN GGMBH
SUMMARY:Musikproduktion mit Ableton Live Songs produzieren, mischen und mastern - von der Idee bis zum Release (26150315D) 
LOCATION:Online-Kurs, vhs.cloud, , 
END:VEVENT
BEGIN:VEVENT
DTSTAMP:20260424T095516
DTSTART;TZID=Europe/Berlin:20260627T133000
DTEND;TZID=Europe/Berlin:20260627T150000
UID:26150315D-20260627T133000@LEINE-VHS LAATZEN GGMBH
SUMMARY:Musikproduktion mit Ableton Live Songs produzieren, mischen und mastern - von der Idee bis zum Release (26150315D) 
LOCATION:Online-Kurs, vhs.cloud, , 
END:VEVENT
END:VCALENDAR