BEGIN:VCALENDAR
PRODID:http://www.kufer.de/kuferweb / DE
VERSION:2.0
METHOD:PUBLISH
CALSCALE:GREGORIAN
X-WR-TIMEZONE:Europe/Berlin
BEGIN:VTIMEZONE
TZID:Europe/Berlin
X-LIC-LOCATION:Europe/Berlin
BEGIN:DAYLIGHT
TZOFFSETFROM:+0100
TZOFFSETTO:+0200
TZNAME:CEST
DTSTART;TZID=Europe/Berlin:19700329T020000
RRULE:FREQ=YEARLY;INTERVAL=1;BYDAY=-1SU;BYMONTH=3
END:DAYLIGHT
BEGIN:STANDARD
TZOFFSETFROM:+0200
TZOFFSETTO:+0100
TZNAME:CET
DTSTART;TZID=Europe/Berlin:19701025T030000
RRULE:FREQ=YEARLY;INTERVAL=1;BYDAY=-1SU;BYMONTH=10
END:STANDARD
END:VTIMEZONE
BEGIN:VEVENT
DTSTAMP:20260424T124139
DTSTART;TZID=Europe/Berlin:20261118T153000
DTEND;TZID=Europe/Berlin:20261118T163000
UID:26230118H-20261118T153000@LEINE-VHS LAATZEN GGMBH
SUMMARY: Hatha-Yoga  Der sanfte Weg zur Stressreduktion (26230118H) 
LOCATION:Hemmingen-Westerfeld, VHS-Geschäftsstelle, Gutenbergstraße 2, B11, Gutenbergstraße 2, 30966 Hemmingen
END:VEVENT
BEGIN:VEVENT
DTSTAMP:20260424T124139
DTSTART;TZID=Europe/Berlin:20261125T153000
DTEND;TZID=Europe/Berlin:20261125T163000
UID:26230118H-20261125T153000@LEINE-VHS LAATZEN GGMBH
SUMMARY: Hatha-Yoga  Der sanfte Weg zur Stressreduktion (26230118H) 
LOCATION:Hemmingen-Westerfeld, VHS-Geschäftsstelle, Gutenbergstraße 2, B11, Gutenbergstraße 2, 30966 Hemmingen
END:VEVENT
BEGIN:VEVENT
DTSTAMP:20260424T124139
DTSTART;TZID=Europe/Berlin:20261202T153000
DTEND;TZID=Europe/Berlin:20261202T163000
UID:26230118H-20261202T153000@LEINE-VHS LAATZEN GGMBH
SUMMARY: Hatha-Yoga  Der sanfte Weg zur Stressreduktion (26230118H) 
LOCATION:Hemmingen-Westerfeld, VHS-Geschäftsstelle, Gutenbergstraße 2, B11, Gutenbergstraße 2, 30966 Hemmingen
END:VEVENT
BEGIN:VEVENT
DTSTAMP:20260424T124139
DTSTART;TZID=Europe/Berlin:20261209T153000
DTEND;TZID=Europe/Berlin:20261209T163000
UID:26230118H-20261209T153000@LEINE-VHS LAATZEN GGMBH
SUMMARY: Hatha-Yoga  Der sanfte Weg zur Stressreduktion (26230118H) 
LOCATION:Hemmingen-Westerfeld, VHS-Geschäftsstelle, Gutenbergstraße 2, B11, Gutenbergstraße 2, 30966 Hemmingen
END:VEVENT
BEGIN:VEVENT
DTSTAMP:20260424T124139
DTSTART;TZID=Europe/Berlin:20261216T153000
DTEND;TZID=Europe/Berlin:20261216T163000
UID:26230118H-20261216T153000@LEINE-VHS LAATZEN GGMBH
SUMMARY: Hatha-Yoga  Der sanfte Weg zur Stressreduktion (26230118H) 
LOCATION:Hemmingen-Westerfeld, VHS-Geschäftsstelle, Gutenbergstraße 2, B11, Gutenbergstraße 2, 30966 Hemmingen
END:VEVENT
BEGIN:VEVENT
DTSTAMP:20260424T124139
DTSTART;TZID=Europe/Berlin:20270113T153000
DTEND;TZID=Europe/Berlin:20270113T163000
UID:26230118H-20270113T153000@LEINE-VHS LAATZEN GGMBH
SUMMARY: Hatha-Yoga  Der sanfte Weg zur Stressreduktion (26230118H) 
LOCATION:Hemmingen-Westerfeld, VHS-Geschäftsstelle, Gutenbergstraße 2, B11, Gutenbergstraße 2, 30966 Hemmingen
END:VEVENT
BEGIN:VEVENT
DTSTAMP:20260424T124139
DTSTART;TZID=Europe/Berlin:20270120T153000
DTEND;TZID=Europe/Berlin:20270120T163000
UID:26230118H-20270120T153000@LEINE-VHS LAATZEN GGMBH
SUMMARY: Hatha-Yoga  Der sanfte Weg zur Stressreduktion (26230118H) 
LOCATION:Hemmingen-Westerfeld, VHS-Geschäftsstelle, Gutenbergstraße 2, B11, Gutenbergstraße 2, 30966 Hemmingen
END:VEVENT
BEGIN:VEVENT
DTSTAMP:20260424T124139
DTSTART;TZID=Europe/Berlin:20270127T153000
DTEND;TZID=Europe/Berlin:20270127T163000
UID:26230118H-20270127T153000@LEINE-VHS LAATZEN GGMBH
SUMMARY: Hatha-Yoga  Der sanfte Weg zur Stressreduktion (26230118H) 
LOCATION:Hemmingen-Westerfeld, VHS-Geschäftsstelle, Gutenbergstraße 2, B11, Gutenbergstraße 2, 30966 Hemmingen
END:VEVENT
END:VCALENDAR