BEGIN:VCALENDAR
PRODID:http://www.kufer.de/kuferweb / DE
VERSION:2.0
METHOD:PUBLISH
CALSCALE:GREGORIAN
X-WR-TIMEZONE:Europe/Berlin
BEGIN:VTIMEZONE
TZID:Europe/Berlin
X-LIC-LOCATION:Europe/Berlin
BEGIN:DAYLIGHT
TZOFFSETFROM:+0100
TZOFFSETTO:+0200
TZNAME:CEST
DTSTART;TZID=Europe/Berlin:19700329T020000
RRULE:FREQ=YEARLY;INTERVAL=1;BYDAY=-1SU;BYMONTH=3
END:DAYLIGHT
BEGIN:STANDARD
TZOFFSETFROM:+0200
TZOFFSETTO:+0100
TZNAME:CET
DTSTART;TZID=Europe/Berlin:19701025T030000
RRULE:FREQ=YEARLY;INTERVAL=1;BYDAY=-1SU;BYMONTH=10
END:STANDARD
END:VTIMEZONE
BEGIN:VEVENT
DTSTAMP:20260424T112627
DTSTART;TZID=Europe/Berlin:20260926T100000
DTEND;TZID=Europe/Berlin:20260926T160000
UID:26270MP01-20260926T100000@LEINE-VHS LAATZEN GGMBH
SUMMARY:Von der Idee zur Veranstaltung - Eventmanagement für Vereine (26270MP01) 
LOCATION:Laatzen, Leine-VHS, Senefelderstr. 17/19, Unterricht 2.23, Senefelderstraße 17/19, 30880 Laatzen
END:VEVENT
END:VCALENDAR